BEGIN:VCALENDAR
VERSION:2.0
PRODID:-//Talyard Brewing Co - ECPv6.15.12.2//NONSGML v1.0//EN
CALSCALE:GREGORIAN
METHOD:PUBLISH
X-ORIGINAL-URL:https://talyardbrewing.com
X-WR-CALDESC:Events for Talyard Brewing Co
REFRESH-INTERVAL;VALUE=DURATION:PT1H
X-Robots-Tag:noindex
X-PUBLISHED-TTL:PT1H
BEGIN:VTIMEZONE
TZID:America/New_York
BEGIN:DAYLIGHT
TZOFFSETFROM:-0500
TZOFFSETTO:-0400
TZNAME:EDT
DTSTART:20280312T070000
END:DAYLIGHT
BEGIN:STANDARD
TZOFFSETFROM:-0400
TZOFFSETTO:-0500
TZNAME:EST
DTSTART:20281105T060000
END:STANDARD
BEGIN:DAYLIGHT
TZOFFSETFROM:-0500
TZOFFSETTO:-0400
TZNAME:EDT
DTSTART:20290311T070000
END:DAYLIGHT
BEGIN:STANDARD
TZOFFSETFROM:-0400
TZOFFSETTO:-0500
TZNAME:EST
DTSTART:20291104T060000
END:STANDARD
BEGIN:DAYLIGHT
TZOFFSETFROM:-0500
TZOFFSETTO:-0400
TZNAME:EDT
DTSTART:20300310T070000
END:DAYLIGHT
BEGIN:STANDARD
TZOFFSETFROM:-0400
TZOFFSETTO:-0500
TZNAME:EST
DTSTART:20301103T060000
END:STANDARD
END:VTIMEZONE
BEGIN:VEVENT
DTSTART;TZID=America/New_York:20291101T153000
DTEND;TZID=America/New_York:20291101T183000
DTSTAMP:20260421T175950
CREATED:20251028T203409Z
LAST-MODIFIED:20260406T173731Z
UID:10001411-1888241400-1888252200@talyardbrewing.com
SUMMARY:Happy Hour
DESCRIPTION:Happy Hour | 3:30–6:30 PM\n$2 off pints & apps\, and $5 off flights!
URL:https://talyardbrewing.com/event-detail/happy-hour/2029-11-01/
LOCATION:Taproom
ATTACH;FMTTYPE=image/jpeg:https://craftpeak-cooler-images.imgix.net/talyard-brewing-co/brussels-3.jpeg?auto=compress%2Cformat&ixlib=php-3.3.1&s=97a1e68d34fc897f7257d7ca8dc8b52d
END:VEVENT
BEGIN:VEVENT
DTSTART;TZID=America/New_York:20291101T180000
DTEND;TZID=America/New_York:20291101T200000
DTSTAMP:20260421T175950
CREATED:20251118T190034Z
LAST-MODIFIED:20260102T190636Z
UID:10001786-1888250400-1888257600@talyardbrewing.com
SUMMARY:Trivia
DESCRIPTION:Thursday Trivia Nights 🧠🍻 \nTest your knowledge and compete for bragging rights.\nEvery Thursday | 6–8PM | Downstairs Taproom \nBring your crew\, grab a pint\, and let’s see what you’ve got.
URL:https://talyardbrewing.com/event-detail/trivia/2029-11-01/
ATTACH;FMTTYPE=image/png:https://craftpeak-cooler-images.imgix.net/talyard-brewing-co/TRIVIA.png?auto=compress%2Cformat&ixlib=php-3.3.1&s=9cd29d7ac8a55f266ae73b8a5eac2330
END:VEVENT
BEGIN:VEVENT
DTSTART;TZID=America/New_York:20291105T153000
DTEND;TZID=America/New_York:20291105T183000
DTSTAMP:20260421T175950
CREATED:20251028T203409Z
LAST-MODIFIED:20260406T173731Z
UID:10001412-1888587000-1888597800@talyardbrewing.com
SUMMARY:Happy Hour
DESCRIPTION:Happy Hour | 3:30–6:30 PM\n$2 off pints & apps\, and $5 off flights!
URL:https://talyardbrewing.com/event-detail/happy-hour/2029-11-05/
LOCATION:Taproom
ATTACH;FMTTYPE=image/jpeg:https://craftpeak-cooler-images.imgix.net/talyard-brewing-co/brussels-3.jpeg?auto=compress%2Cformat&ixlib=php-3.3.1&s=97a1e68d34fc897f7257d7ca8dc8b52d
END:VEVENT
BEGIN:VEVENT
DTSTART;TZID=America/New_York:20291106T153000
DTEND;TZID=America/New_York:20291106T183000
DTSTAMP:20260421T175950
CREATED:20251028T203409Z
LAST-MODIFIED:20260406T173731Z
UID:10002117-1888673400-1888684200@talyardbrewing.com
SUMMARY:Happy Hour
DESCRIPTION:Happy Hour | 3:30–6:30 PM\n$2 off pints & apps\, and $5 off flights!
URL:https://talyardbrewing.com/event-detail/happy-hour/2029-11-06/
LOCATION:Taproom
ATTACH;FMTTYPE=image/jpeg:https://craftpeak-cooler-images.imgix.net/talyard-brewing-co/brussels-3.jpeg?auto=compress%2Cformat&ixlib=php-3.3.1&s=97a1e68d34fc897f7257d7ca8dc8b52d
END:VEVENT
BEGIN:VEVENT
DTSTART;TZID=America/New_York:20291107T153000
DTEND;TZID=America/New_York:20291107T183000
DTSTAMP:20260421T175950
CREATED:20251028T203409Z
LAST-MODIFIED:20260406T173731Z
UID:10001413-1888759800-1888770600@talyardbrewing.com
SUMMARY:Happy Hour
DESCRIPTION:Happy Hour | 3:30–6:30 PM\n$2 off pints & apps\, and $5 off flights!
URL:https://talyardbrewing.com/event-detail/happy-hour/2029-11-07/
LOCATION:Taproom
ATTACH;FMTTYPE=image/jpeg:https://craftpeak-cooler-images.imgix.net/talyard-brewing-co/brussels-3.jpeg?auto=compress%2Cformat&ixlib=php-3.3.1&s=97a1e68d34fc897f7257d7ca8dc8b52d
END:VEVENT
BEGIN:VEVENT
DTSTART;TZID=America/New_York:20291108T153000
DTEND;TZID=America/New_York:20291108T183000
DTSTAMP:20260421T175950
CREATED:20251028T203409Z
LAST-MODIFIED:20260406T173731Z
UID:10001414-1888846200-1888857000@talyardbrewing.com
SUMMARY:Happy Hour
DESCRIPTION:Happy Hour | 3:30–6:30 PM\n$2 off pints & apps\, and $5 off flights!
URL:https://talyardbrewing.com/event-detail/happy-hour/2029-11-08/
LOCATION:Taproom
ATTACH;FMTTYPE=image/jpeg:https://craftpeak-cooler-images.imgix.net/talyard-brewing-co/brussels-3.jpeg?auto=compress%2Cformat&ixlib=php-3.3.1&s=97a1e68d34fc897f7257d7ca8dc8b52d
END:VEVENT
BEGIN:VEVENT
DTSTART;TZID=America/New_York:20291108T180000
DTEND;TZID=America/New_York:20291108T200000
DTSTAMP:20260421T175950
CREATED:20251118T190034Z
LAST-MODIFIED:20260102T190636Z
UID:10001787-1888855200-1888862400@talyardbrewing.com
SUMMARY:Trivia
DESCRIPTION:Thursday Trivia Nights 🧠🍻 \nTest your knowledge and compete for bragging rights.\nEvery Thursday | 6–8PM | Downstairs Taproom \nBring your crew\, grab a pint\, and let’s see what you’ve got.
URL:https://talyardbrewing.com/event-detail/trivia/2029-11-08/
ATTACH;FMTTYPE=image/png:https://craftpeak-cooler-images.imgix.net/talyard-brewing-co/TRIVIA.png?auto=compress%2Cformat&ixlib=php-3.3.1&s=9cd29d7ac8a55f266ae73b8a5eac2330
END:VEVENT
BEGIN:VEVENT
DTSTART;TZID=America/New_York:20291112T153000
DTEND;TZID=America/New_York:20291112T183000
DTSTAMP:20260421T175950
CREATED:20251028T203409Z
LAST-MODIFIED:20260406T173731Z
UID:10001415-1889191800-1889202600@talyardbrewing.com
SUMMARY:Happy Hour
DESCRIPTION:Happy Hour | 3:30–6:30 PM\n$2 off pints & apps\, and $5 off flights!
URL:https://talyardbrewing.com/event-detail/happy-hour/2029-11-12/
LOCATION:Taproom
ATTACH;FMTTYPE=image/jpeg:https://craftpeak-cooler-images.imgix.net/talyard-brewing-co/brussels-3.jpeg?auto=compress%2Cformat&ixlib=php-3.3.1&s=97a1e68d34fc897f7257d7ca8dc8b52d
END:VEVENT
BEGIN:VEVENT
DTSTART;TZID=America/New_York:20291113T153000
DTEND;TZID=America/New_York:20291113T183000
DTSTAMP:20260421T175950
CREATED:20251028T203409Z
LAST-MODIFIED:20260406T173731Z
UID:10002118-1889278200-1889289000@talyardbrewing.com
SUMMARY:Happy Hour
DESCRIPTION:Happy Hour | 3:30–6:30 PM\n$2 off pints & apps\, and $5 off flights!
URL:https://talyardbrewing.com/event-detail/happy-hour/2029-11-13/
LOCATION:Taproom
ATTACH;FMTTYPE=image/jpeg:https://craftpeak-cooler-images.imgix.net/talyard-brewing-co/brussels-3.jpeg?auto=compress%2Cformat&ixlib=php-3.3.1&s=97a1e68d34fc897f7257d7ca8dc8b52d
END:VEVENT
BEGIN:VEVENT
DTSTART;TZID=America/New_York:20291114T153000
DTEND;TZID=America/New_York:20291114T183000
DTSTAMP:20260421T175950
CREATED:20251028T203409Z
LAST-MODIFIED:20260406T173731Z
UID:10001416-1889364600-1889375400@talyardbrewing.com
SUMMARY:Happy Hour
DESCRIPTION:Happy Hour | 3:30–6:30 PM\n$2 off pints & apps\, and $5 off flights!
URL:https://talyardbrewing.com/event-detail/happy-hour/2029-11-14/
LOCATION:Taproom
ATTACH;FMTTYPE=image/jpeg:https://craftpeak-cooler-images.imgix.net/talyard-brewing-co/brussels-3.jpeg?auto=compress%2Cformat&ixlib=php-3.3.1&s=97a1e68d34fc897f7257d7ca8dc8b52d
END:VEVENT
BEGIN:VEVENT
DTSTART;TZID=America/New_York:20291115T153000
DTEND;TZID=America/New_York:20291115T183000
DTSTAMP:20260421T175950
CREATED:20251028T203409Z
LAST-MODIFIED:20260406T173731Z
UID:10001417-1889451000-1889461800@talyardbrewing.com
SUMMARY:Happy Hour
DESCRIPTION:Happy Hour | 3:30–6:30 PM\n$2 off pints & apps\, and $5 off flights!
URL:https://talyardbrewing.com/event-detail/happy-hour/2029-11-15/
LOCATION:Taproom
ATTACH;FMTTYPE=image/jpeg:https://craftpeak-cooler-images.imgix.net/talyard-brewing-co/brussels-3.jpeg?auto=compress%2Cformat&ixlib=php-3.3.1&s=97a1e68d34fc897f7257d7ca8dc8b52d
END:VEVENT
BEGIN:VEVENT
DTSTART;TZID=America/New_York:20291115T180000
DTEND;TZID=America/New_York:20291115T200000
DTSTAMP:20260421T175950
CREATED:20251118T190034Z
LAST-MODIFIED:20260102T190636Z
UID:10001788-1889460000-1889467200@talyardbrewing.com
SUMMARY:Trivia
DESCRIPTION:Thursday Trivia Nights 🧠🍻 \nTest your knowledge and compete for bragging rights.\nEvery Thursday | 6–8PM | Downstairs Taproom \nBring your crew\, grab a pint\, and let’s see what you’ve got.
URL:https://talyardbrewing.com/event-detail/trivia/2029-11-15/
ATTACH;FMTTYPE=image/png:https://craftpeak-cooler-images.imgix.net/talyard-brewing-co/TRIVIA.png?auto=compress%2Cformat&ixlib=php-3.3.1&s=9cd29d7ac8a55f266ae73b8a5eac2330
END:VEVENT
BEGIN:VEVENT
DTSTART;TZID=America/New_York:20291119T153000
DTEND;TZID=America/New_York:20291119T183000
DTSTAMP:20260421T175950
CREATED:20251028T203409Z
LAST-MODIFIED:20260406T173731Z
UID:10001418-1889796600-1889807400@talyardbrewing.com
SUMMARY:Happy Hour
DESCRIPTION:Happy Hour | 3:30–6:30 PM\n$2 off pints & apps\, and $5 off flights!
URL:https://talyardbrewing.com/event-detail/happy-hour/2029-11-19/
LOCATION:Taproom
ATTACH;FMTTYPE=image/jpeg:https://craftpeak-cooler-images.imgix.net/talyard-brewing-co/brussels-3.jpeg?auto=compress%2Cformat&ixlib=php-3.3.1&s=97a1e68d34fc897f7257d7ca8dc8b52d
END:VEVENT
BEGIN:VEVENT
DTSTART;TZID=America/New_York:20291120T153000
DTEND;TZID=America/New_York:20291120T183000
DTSTAMP:20260421T175950
CREATED:20251028T203409Z
LAST-MODIFIED:20260406T173731Z
UID:10002119-1889883000-1889893800@talyardbrewing.com
SUMMARY:Happy Hour
DESCRIPTION:Happy Hour | 3:30–6:30 PM\n$2 off pints & apps\, and $5 off flights!
URL:https://talyardbrewing.com/event-detail/happy-hour/2029-11-20/
LOCATION:Taproom
ATTACH;FMTTYPE=image/jpeg:https://craftpeak-cooler-images.imgix.net/talyard-brewing-co/brussels-3.jpeg?auto=compress%2Cformat&ixlib=php-3.3.1&s=97a1e68d34fc897f7257d7ca8dc8b52d
END:VEVENT
BEGIN:VEVENT
DTSTART;TZID=America/New_York:20291121T153000
DTEND;TZID=America/New_York:20291121T183000
DTSTAMP:20260421T175950
CREATED:20251028T203409Z
LAST-MODIFIED:20260406T173731Z
UID:10001419-1889969400-1889980200@talyardbrewing.com
SUMMARY:Happy Hour
DESCRIPTION:Happy Hour | 3:30–6:30 PM\n$2 off pints & apps\, and $5 off flights!
URL:https://talyardbrewing.com/event-detail/happy-hour/2029-11-21/
LOCATION:Taproom
ATTACH;FMTTYPE=image/jpeg:https://craftpeak-cooler-images.imgix.net/talyard-brewing-co/brussels-3.jpeg?auto=compress%2Cformat&ixlib=php-3.3.1&s=97a1e68d34fc897f7257d7ca8dc8b52d
END:VEVENT
BEGIN:VEVENT
DTSTART;TZID=America/New_York:20291122T153000
DTEND;TZID=America/New_York:20291122T183000
DTSTAMP:20260421T175950
CREATED:20251028T203409Z
LAST-MODIFIED:20260406T173731Z
UID:10001420-1890055800-1890066600@talyardbrewing.com
SUMMARY:Happy Hour
DESCRIPTION:Happy Hour | 3:30–6:30 PM\n$2 off pints & apps\, and $5 off flights!
URL:https://talyardbrewing.com/event-detail/happy-hour/2029-11-22/
LOCATION:Taproom
ATTACH;FMTTYPE=image/jpeg:https://craftpeak-cooler-images.imgix.net/talyard-brewing-co/brussels-3.jpeg?auto=compress%2Cformat&ixlib=php-3.3.1&s=97a1e68d34fc897f7257d7ca8dc8b52d
END:VEVENT
BEGIN:VEVENT
DTSTART;TZID=America/New_York:20291122T180000
DTEND;TZID=America/New_York:20291122T200000
DTSTAMP:20260421T175950
CREATED:20251118T190034Z
LAST-MODIFIED:20260102T190636Z
UID:10001789-1890064800-1890072000@talyardbrewing.com
SUMMARY:Trivia
DESCRIPTION:Thursday Trivia Nights 🧠🍻 \nTest your knowledge and compete for bragging rights.\nEvery Thursday | 6–8PM | Downstairs Taproom \nBring your crew\, grab a pint\, and let’s see what you’ve got.
URL:https://talyardbrewing.com/event-detail/trivia/2029-11-22/
ATTACH;FMTTYPE=image/png:https://craftpeak-cooler-images.imgix.net/talyard-brewing-co/TRIVIA.png?auto=compress%2Cformat&ixlib=php-3.3.1&s=9cd29d7ac8a55f266ae73b8a5eac2330
END:VEVENT
BEGIN:VEVENT
DTSTART;TZID=America/New_York:20291126T153000
DTEND;TZID=America/New_York:20291126T183000
DTSTAMP:20260421T175950
CREATED:20251028T203409Z
LAST-MODIFIED:20260406T173731Z
UID:10001421-1890401400-1890412200@talyardbrewing.com
SUMMARY:Happy Hour
DESCRIPTION:Happy Hour | 3:30–6:30 PM\n$2 off pints & apps\, and $5 off flights!
URL:https://talyardbrewing.com/event-detail/happy-hour/2029-11-26/
LOCATION:Taproom
ATTACH;FMTTYPE=image/jpeg:https://craftpeak-cooler-images.imgix.net/talyard-brewing-co/brussels-3.jpeg?auto=compress%2Cformat&ixlib=php-3.3.1&s=97a1e68d34fc897f7257d7ca8dc8b52d
END:VEVENT
BEGIN:VEVENT
DTSTART;TZID=America/New_York:20291127T153000
DTEND;TZID=America/New_York:20291127T183000
DTSTAMP:20260421T175950
CREATED:20251028T203409Z
LAST-MODIFIED:20260406T173731Z
UID:10002120-1890487800-1890498600@talyardbrewing.com
SUMMARY:Happy Hour
DESCRIPTION:Happy Hour | 3:30–6:30 PM\n$2 off pints & apps\, and $5 off flights!
URL:https://talyardbrewing.com/event-detail/happy-hour/2029-11-27/
LOCATION:Taproom
ATTACH;FMTTYPE=image/jpeg:https://craftpeak-cooler-images.imgix.net/talyard-brewing-co/brussels-3.jpeg?auto=compress%2Cformat&ixlib=php-3.3.1&s=97a1e68d34fc897f7257d7ca8dc8b52d
END:VEVENT
BEGIN:VEVENT
DTSTART;TZID=America/New_York:20291128T153000
DTEND;TZID=America/New_York:20291128T183000
DTSTAMP:20260421T175950
CREATED:20251028T203409Z
LAST-MODIFIED:20260406T173731Z
UID:10001422-1890574200-1890585000@talyardbrewing.com
SUMMARY:Happy Hour
DESCRIPTION:Happy Hour | 3:30–6:30 PM\n$2 off pints & apps\, and $5 off flights!
URL:https://talyardbrewing.com/event-detail/happy-hour/2029-11-28/
LOCATION:Taproom
ATTACH;FMTTYPE=image/jpeg:https://craftpeak-cooler-images.imgix.net/talyard-brewing-co/brussels-3.jpeg?auto=compress%2Cformat&ixlib=php-3.3.1&s=97a1e68d34fc897f7257d7ca8dc8b52d
END:VEVENT
BEGIN:VEVENT
DTSTART;TZID=America/New_York:20291129T153000
DTEND;TZID=America/New_York:20291129T183000
DTSTAMP:20260421T175950
CREATED:20251028T203409Z
LAST-MODIFIED:20260406T173731Z
UID:10001423-1890660600-1890671400@talyardbrewing.com
SUMMARY:Happy Hour
DESCRIPTION:Happy Hour | 3:30–6:30 PM\n$2 off pints & apps\, and $5 off flights!
URL:https://talyardbrewing.com/event-detail/happy-hour/2029-11-29/
LOCATION:Taproom
ATTACH;FMTTYPE=image/jpeg:https://craftpeak-cooler-images.imgix.net/talyard-brewing-co/brussels-3.jpeg?auto=compress%2Cformat&ixlib=php-3.3.1&s=97a1e68d34fc897f7257d7ca8dc8b52d
END:VEVENT
BEGIN:VEVENT
DTSTART;TZID=America/New_York:20291129T180000
DTEND;TZID=America/New_York:20291129T200000
DTSTAMP:20260421T175950
CREATED:20251118T190034Z
LAST-MODIFIED:20260102T190636Z
UID:10001790-1890669600-1890676800@talyardbrewing.com
SUMMARY:Trivia
DESCRIPTION:Thursday Trivia Nights 🧠🍻 \nTest your knowledge and compete for bragging rights.\nEvery Thursday | 6–8PM | Downstairs Taproom \nBring your crew\, grab a pint\, and let’s see what you’ve got.
URL:https://talyardbrewing.com/event-detail/trivia/2029-11-29/
ATTACH;FMTTYPE=image/png:https://craftpeak-cooler-images.imgix.net/talyard-brewing-co/TRIVIA.png?auto=compress%2Cformat&ixlib=php-3.3.1&s=9cd29d7ac8a55f266ae73b8a5eac2330
END:VEVENT
END:VCALENDAR