BEGIN:VCALENDAR
VERSION:2.0
PRODID:-//Talyard Brewing Co - ECPv6.15.12.2//NONSGML v1.0//EN
CALSCALE:GREGORIAN
METHOD:PUBLISH
X-WR-CALNAME:Talyard Brewing Co
X-ORIGINAL-URL:https://talyardbrewing.com
X-WR-CALDESC:Events for Talyard Brewing Co
REFRESH-INTERVAL;VALUE=DURATION:PT1H
X-Robots-Tag:noindex
X-PUBLISHED-TTL:PT1H
BEGIN:VTIMEZONE
TZID:America/New_York
BEGIN:DAYLIGHT
TZOFFSETFROM:-0500
TZOFFSETTO:-0400
TZNAME:EDT
DTSTART:20270314T070000
END:DAYLIGHT
BEGIN:STANDARD
TZOFFSETFROM:-0400
TZOFFSETTO:-0500
TZNAME:EST
DTSTART:20271107T060000
END:STANDARD
BEGIN:DAYLIGHT
TZOFFSETFROM:-0500
TZOFFSETTO:-0400
TZNAME:EDT
DTSTART:20280312T070000
END:DAYLIGHT
BEGIN:STANDARD
TZOFFSETFROM:-0400
TZOFFSETTO:-0500
TZNAME:EST
DTSTART:20281105T060000
END:STANDARD
BEGIN:DAYLIGHT
TZOFFSETFROM:-0500
TZOFFSETTO:-0400
TZNAME:EDT
DTSTART:20290311T070000
END:DAYLIGHT
BEGIN:STANDARD
TZOFFSETFROM:-0400
TZOFFSETTO:-0500
TZNAME:EST
DTSTART:20291104T060000
END:STANDARD
END:VTIMEZONE
BEGIN:VEVENT
DTSTART;TZID=America/New_York:20280601T153000
DTEND;TZID=America/New_York:20280601T183000
DTSTAMP:20260420T141818
CREATED:20251028T203409Z
LAST-MODIFIED:20260406T173731Z
UID:10001189-1843486200-1843497000@talyardbrewing.com
SUMMARY:Happy Hour
DESCRIPTION:Happy Hour | 3:30–6:30 PM\n$2 off pints & apps\, and $5 off flights!
URL:https://talyardbrewing.com/event-detail/happy-hour/2028-06-01/
LOCATION:Taproom
ATTACH;FMTTYPE=image/jpeg:https://craftpeak-cooler-images.imgix.net/talyard-brewing-co/brussels-3.jpeg?auto=compress%2Cformat&ixlib=php-3.3.1&s=97a1e68d34fc897f7257d7ca8dc8b52d
END:VEVENT
BEGIN:VEVENT
DTSTART;TZID=America/New_York:20280601T180000
DTEND;TZID=America/New_York:20280601T200000
DTSTAMP:20260420T141818
CREATED:20251118T190034Z
LAST-MODIFIED:20260102T190636Z
UID:10001712-1843495200-1843502400@talyardbrewing.com
SUMMARY:Trivia
DESCRIPTION:Thursday Trivia Nights 🧠🍻 \nTest your knowledge and compete for bragging rights.\nEvery Thursday | 6–8PM | Downstairs Taproom \nBring your crew\, grab a pint\, and let’s see what you’ve got.
URL:https://talyardbrewing.com/event-detail/trivia/2028-06-01/
ATTACH;FMTTYPE=image/png:https://craftpeak-cooler-images.imgix.net/talyard-brewing-co/TRIVIA.png?auto=compress%2Cformat&ixlib=php-3.3.1&s=9cd29d7ac8a55f266ae73b8a5eac2330
END:VEVENT
BEGIN:VEVENT
DTSTART;TZID=America/New_York:20280605T153000
DTEND;TZID=America/New_York:20280605T183000
DTSTAMP:20260420T141818
CREATED:20251028T203409Z
LAST-MODIFIED:20260406T173731Z
UID:10001190-1843831800-1843842600@talyardbrewing.com
SUMMARY:Happy Hour
DESCRIPTION:Happy Hour | 3:30–6:30 PM\n$2 off pints & apps\, and $5 off flights!
URL:https://talyardbrewing.com/event-detail/happy-hour/2028-06-05/
LOCATION:Taproom
ATTACH;FMTTYPE=image/jpeg:https://craftpeak-cooler-images.imgix.net/talyard-brewing-co/brussels-3.jpeg?auto=compress%2Cformat&ixlib=php-3.3.1&s=97a1e68d34fc897f7257d7ca8dc8b52d
END:VEVENT
BEGIN:VEVENT
DTSTART;TZID=America/New_York:20280606T153000
DTEND;TZID=America/New_York:20280606T183000
DTSTAMP:20260420T141818
CREATED:20251028T203409Z
LAST-MODIFIED:20260406T173731Z
UID:10002043-1843918200-1843929000@talyardbrewing.com
SUMMARY:Happy Hour
DESCRIPTION:Happy Hour | 3:30–6:30 PM\n$2 off pints & apps\, and $5 off flights!
URL:https://talyardbrewing.com/event-detail/happy-hour/2028-06-06/
LOCATION:Taproom
ATTACH;FMTTYPE=image/jpeg:https://craftpeak-cooler-images.imgix.net/talyard-brewing-co/brussels-3.jpeg?auto=compress%2Cformat&ixlib=php-3.3.1&s=97a1e68d34fc897f7257d7ca8dc8b52d
END:VEVENT
BEGIN:VEVENT
DTSTART;TZID=America/New_York:20280607T153000
DTEND;TZID=America/New_York:20280607T183000
DTSTAMP:20260420T141818
CREATED:20251028T203409Z
LAST-MODIFIED:20260406T173731Z
UID:10001191-1844004600-1844015400@talyardbrewing.com
SUMMARY:Happy Hour
DESCRIPTION:Happy Hour | 3:30–6:30 PM\n$2 off pints & apps\, and $5 off flights!
URL:https://talyardbrewing.com/event-detail/happy-hour/2028-06-07/
LOCATION:Taproom
ATTACH;FMTTYPE=image/jpeg:https://craftpeak-cooler-images.imgix.net/talyard-brewing-co/brussels-3.jpeg?auto=compress%2Cformat&ixlib=php-3.3.1&s=97a1e68d34fc897f7257d7ca8dc8b52d
END:VEVENT
BEGIN:VEVENT
DTSTART;TZID=America/New_York:20280608T153000
DTEND;TZID=America/New_York:20280608T183000
DTSTAMP:20260420T141818
CREATED:20251028T203409Z
LAST-MODIFIED:20260406T173731Z
UID:10001192-1844091000-1844101800@talyardbrewing.com
SUMMARY:Happy Hour
DESCRIPTION:Happy Hour | 3:30–6:30 PM\n$2 off pints & apps\, and $5 off flights!
URL:https://talyardbrewing.com/event-detail/happy-hour/2028-06-08/
LOCATION:Taproom
ATTACH;FMTTYPE=image/jpeg:https://craftpeak-cooler-images.imgix.net/talyard-brewing-co/brussels-3.jpeg?auto=compress%2Cformat&ixlib=php-3.3.1&s=97a1e68d34fc897f7257d7ca8dc8b52d
END:VEVENT
BEGIN:VEVENT
DTSTART;TZID=America/New_York:20280608T180000
DTEND;TZID=America/New_York:20280608T200000
DTSTAMP:20260420T141818
CREATED:20251118T190034Z
LAST-MODIFIED:20260102T190636Z
UID:10001713-1844100000-1844107200@talyardbrewing.com
SUMMARY:Trivia
DESCRIPTION:Thursday Trivia Nights 🧠🍻 \nTest your knowledge and compete for bragging rights.\nEvery Thursday | 6–8PM | Downstairs Taproom \nBring your crew\, grab a pint\, and let’s see what you’ve got.
URL:https://talyardbrewing.com/event-detail/trivia/2028-06-08/
ATTACH;FMTTYPE=image/png:https://craftpeak-cooler-images.imgix.net/talyard-brewing-co/TRIVIA.png?auto=compress%2Cformat&ixlib=php-3.3.1&s=9cd29d7ac8a55f266ae73b8a5eac2330
END:VEVENT
BEGIN:VEVENT
DTSTART;TZID=America/New_York:20280612T153000
DTEND;TZID=America/New_York:20280612T183000
DTSTAMP:20260420T141818
CREATED:20251028T203409Z
LAST-MODIFIED:20260406T173731Z
UID:10001193-1844436600-1844447400@talyardbrewing.com
SUMMARY:Happy Hour
DESCRIPTION:Happy Hour | 3:30–6:30 PM\n$2 off pints & apps\, and $5 off flights!
URL:https://talyardbrewing.com/event-detail/happy-hour/2028-06-12/
LOCATION:Taproom
ATTACH;FMTTYPE=image/jpeg:https://craftpeak-cooler-images.imgix.net/talyard-brewing-co/brussels-3.jpeg?auto=compress%2Cformat&ixlib=php-3.3.1&s=97a1e68d34fc897f7257d7ca8dc8b52d
END:VEVENT
BEGIN:VEVENT
DTSTART;TZID=America/New_York:20280613T153000
DTEND;TZID=America/New_York:20280613T183000
DTSTAMP:20260420T141818
CREATED:20251028T203409Z
LAST-MODIFIED:20260406T173731Z
UID:10002044-1844523000-1844533800@talyardbrewing.com
SUMMARY:Happy Hour
DESCRIPTION:Happy Hour | 3:30–6:30 PM\n$2 off pints & apps\, and $5 off flights!
URL:https://talyardbrewing.com/event-detail/happy-hour/2028-06-13/
LOCATION:Taproom
ATTACH;FMTTYPE=image/jpeg:https://craftpeak-cooler-images.imgix.net/talyard-brewing-co/brussels-3.jpeg?auto=compress%2Cformat&ixlib=php-3.3.1&s=97a1e68d34fc897f7257d7ca8dc8b52d
END:VEVENT
BEGIN:VEVENT
DTSTART;TZID=America/New_York:20280614T153000
DTEND;TZID=America/New_York:20280614T183000
DTSTAMP:20260420T141818
CREATED:20251028T203409Z
LAST-MODIFIED:20260406T173731Z
UID:10001194-1844609400-1844620200@talyardbrewing.com
SUMMARY:Happy Hour
DESCRIPTION:Happy Hour | 3:30–6:30 PM\n$2 off pints & apps\, and $5 off flights!
URL:https://talyardbrewing.com/event-detail/happy-hour/2028-06-14/
LOCATION:Taproom
ATTACH;FMTTYPE=image/jpeg:https://craftpeak-cooler-images.imgix.net/talyard-brewing-co/brussels-3.jpeg?auto=compress%2Cformat&ixlib=php-3.3.1&s=97a1e68d34fc897f7257d7ca8dc8b52d
END:VEVENT
BEGIN:VEVENT
DTSTART;TZID=America/New_York:20280615T153000
DTEND;TZID=America/New_York:20280615T183000
DTSTAMP:20260420T141818
CREATED:20251028T203409Z
LAST-MODIFIED:20260406T173731Z
UID:10001195-1844695800-1844706600@talyardbrewing.com
SUMMARY:Happy Hour
DESCRIPTION:Happy Hour | 3:30–6:30 PM\n$2 off pints & apps\, and $5 off flights!
URL:https://talyardbrewing.com/event-detail/happy-hour/2028-06-15/
LOCATION:Taproom
ATTACH;FMTTYPE=image/jpeg:https://craftpeak-cooler-images.imgix.net/talyard-brewing-co/brussels-3.jpeg?auto=compress%2Cformat&ixlib=php-3.3.1&s=97a1e68d34fc897f7257d7ca8dc8b52d
END:VEVENT
BEGIN:VEVENT
DTSTART;TZID=America/New_York:20280615T180000
DTEND;TZID=America/New_York:20280615T200000
DTSTAMP:20260420T141818
CREATED:20251118T190034Z
LAST-MODIFIED:20260102T190636Z
UID:10001714-1844704800-1844712000@talyardbrewing.com
SUMMARY:Trivia
DESCRIPTION:Thursday Trivia Nights 🧠🍻 \nTest your knowledge and compete for bragging rights.\nEvery Thursday | 6–8PM | Downstairs Taproom \nBring your crew\, grab a pint\, and let’s see what you’ve got.
URL:https://talyardbrewing.com/event-detail/trivia/2028-06-15/
ATTACH;FMTTYPE=image/png:https://craftpeak-cooler-images.imgix.net/talyard-brewing-co/TRIVIA.png?auto=compress%2Cformat&ixlib=php-3.3.1&s=9cd29d7ac8a55f266ae73b8a5eac2330
END:VEVENT
BEGIN:VEVENT
DTSTART;TZID=America/New_York:20280619T153000
DTEND;TZID=America/New_York:20280619T183000
DTSTAMP:20260420T141818
CREATED:20251028T203409Z
LAST-MODIFIED:20260406T173731Z
UID:10001196-1845041400-1845052200@talyardbrewing.com
SUMMARY:Happy Hour
DESCRIPTION:Happy Hour | 3:30–6:30 PM\n$2 off pints & apps\, and $5 off flights!
URL:https://talyardbrewing.com/event-detail/happy-hour/2028-06-19/
LOCATION:Taproom
ATTACH;FMTTYPE=image/jpeg:https://craftpeak-cooler-images.imgix.net/talyard-brewing-co/brussels-3.jpeg?auto=compress%2Cformat&ixlib=php-3.3.1&s=97a1e68d34fc897f7257d7ca8dc8b52d
END:VEVENT
BEGIN:VEVENT
DTSTART;TZID=America/New_York:20280620T153000
DTEND;TZID=America/New_York:20280620T183000
DTSTAMP:20260420T141818
CREATED:20251028T203409Z
LAST-MODIFIED:20260406T173731Z
UID:10002045-1845127800-1845138600@talyardbrewing.com
SUMMARY:Happy Hour
DESCRIPTION:Happy Hour | 3:30–6:30 PM\n$2 off pints & apps\, and $5 off flights!
URL:https://talyardbrewing.com/event-detail/happy-hour/2028-06-20/
LOCATION:Taproom
ATTACH;FMTTYPE=image/jpeg:https://craftpeak-cooler-images.imgix.net/talyard-brewing-co/brussels-3.jpeg?auto=compress%2Cformat&ixlib=php-3.3.1&s=97a1e68d34fc897f7257d7ca8dc8b52d
END:VEVENT
BEGIN:VEVENT
DTSTART;TZID=America/New_York:20280621T153000
DTEND;TZID=America/New_York:20280621T183000
DTSTAMP:20260420T141818
CREATED:20251028T203409Z
LAST-MODIFIED:20260406T173731Z
UID:10001197-1845214200-1845225000@talyardbrewing.com
SUMMARY:Happy Hour
DESCRIPTION:Happy Hour | 3:30–6:30 PM\n$2 off pints & apps\, and $5 off flights!
URL:https://talyardbrewing.com/event-detail/happy-hour/2028-06-21/
LOCATION:Taproom
ATTACH;FMTTYPE=image/jpeg:https://craftpeak-cooler-images.imgix.net/talyard-brewing-co/brussels-3.jpeg?auto=compress%2Cformat&ixlib=php-3.3.1&s=97a1e68d34fc897f7257d7ca8dc8b52d
END:VEVENT
BEGIN:VEVENT
DTSTART;TZID=America/New_York:20280622T153000
DTEND;TZID=America/New_York:20280622T183000
DTSTAMP:20260420T141818
CREATED:20251028T203409Z
LAST-MODIFIED:20260406T173731Z
UID:10001198-1845300600-1845311400@talyardbrewing.com
SUMMARY:Happy Hour
DESCRIPTION:Happy Hour | 3:30–6:30 PM\n$2 off pints & apps\, and $5 off flights!
URL:https://talyardbrewing.com/event-detail/happy-hour/2028-06-22/
LOCATION:Taproom
ATTACH;FMTTYPE=image/jpeg:https://craftpeak-cooler-images.imgix.net/talyard-brewing-co/brussels-3.jpeg?auto=compress%2Cformat&ixlib=php-3.3.1&s=97a1e68d34fc897f7257d7ca8dc8b52d
END:VEVENT
BEGIN:VEVENT
DTSTART;TZID=America/New_York:20280622T180000
DTEND;TZID=America/New_York:20280622T200000
DTSTAMP:20260420T141818
CREATED:20251118T190034Z
LAST-MODIFIED:20260102T190636Z
UID:10001715-1845309600-1845316800@talyardbrewing.com
SUMMARY:Trivia
DESCRIPTION:Thursday Trivia Nights 🧠🍻 \nTest your knowledge and compete for bragging rights.\nEvery Thursday | 6–8PM | Downstairs Taproom \nBring your crew\, grab a pint\, and let’s see what you’ve got.
URL:https://talyardbrewing.com/event-detail/trivia/2028-06-22/
ATTACH;FMTTYPE=image/png:https://craftpeak-cooler-images.imgix.net/talyard-brewing-co/TRIVIA.png?auto=compress%2Cformat&ixlib=php-3.3.1&s=9cd29d7ac8a55f266ae73b8a5eac2330
END:VEVENT
BEGIN:VEVENT
DTSTART;TZID=America/New_York:20280626T153000
DTEND;TZID=America/New_York:20280626T183000
DTSTAMP:20260420T141818
CREATED:20251028T203409Z
LAST-MODIFIED:20260406T173731Z
UID:10001199-1845646200-1845657000@talyardbrewing.com
SUMMARY:Happy Hour
DESCRIPTION:Happy Hour | 3:30–6:30 PM\n$2 off pints & apps\, and $5 off flights!
URL:https://talyardbrewing.com/event-detail/happy-hour/2028-06-26/
LOCATION:Taproom
ATTACH;FMTTYPE=image/jpeg:https://craftpeak-cooler-images.imgix.net/talyard-brewing-co/brussels-3.jpeg?auto=compress%2Cformat&ixlib=php-3.3.1&s=97a1e68d34fc897f7257d7ca8dc8b52d
END:VEVENT
BEGIN:VEVENT
DTSTART;TZID=America/New_York:20280627T153000
DTEND;TZID=America/New_York:20280627T183000
DTSTAMP:20260420T141818
CREATED:20251028T203409Z
LAST-MODIFIED:20260406T173731Z
UID:10002046-1845732600-1845743400@talyardbrewing.com
SUMMARY:Happy Hour
DESCRIPTION:Happy Hour | 3:30–6:30 PM\n$2 off pints & apps\, and $5 off flights!
URL:https://talyardbrewing.com/event-detail/happy-hour/2028-06-27/
LOCATION:Taproom
ATTACH;FMTTYPE=image/jpeg:https://craftpeak-cooler-images.imgix.net/talyard-brewing-co/brussels-3.jpeg?auto=compress%2Cformat&ixlib=php-3.3.1&s=97a1e68d34fc897f7257d7ca8dc8b52d
END:VEVENT
BEGIN:VEVENT
DTSTART;TZID=America/New_York:20280628T153000
DTEND;TZID=America/New_York:20280628T183000
DTSTAMP:20260420T141818
CREATED:20251028T203409Z
LAST-MODIFIED:20260406T173731Z
UID:10001200-1845819000-1845829800@talyardbrewing.com
SUMMARY:Happy Hour
DESCRIPTION:Happy Hour | 3:30–6:30 PM\n$2 off pints & apps\, and $5 off flights!
URL:https://talyardbrewing.com/event-detail/happy-hour/2028-06-28/
LOCATION:Taproom
ATTACH;FMTTYPE=image/jpeg:https://craftpeak-cooler-images.imgix.net/talyard-brewing-co/brussels-3.jpeg?auto=compress%2Cformat&ixlib=php-3.3.1&s=97a1e68d34fc897f7257d7ca8dc8b52d
END:VEVENT
BEGIN:VEVENT
DTSTART;TZID=America/New_York:20280629T153000
DTEND;TZID=America/New_York:20280629T183000
DTSTAMP:20260420T141818
CREATED:20251028T203409Z
LAST-MODIFIED:20260406T173731Z
UID:10001201-1845905400-1845916200@talyardbrewing.com
SUMMARY:Happy Hour
DESCRIPTION:Happy Hour | 3:30–6:30 PM\n$2 off pints & apps\, and $5 off flights!
URL:https://talyardbrewing.com/event-detail/happy-hour/2028-06-29/
LOCATION:Taproom
ATTACH;FMTTYPE=image/jpeg:https://craftpeak-cooler-images.imgix.net/talyard-brewing-co/brussels-3.jpeg?auto=compress%2Cformat&ixlib=php-3.3.1&s=97a1e68d34fc897f7257d7ca8dc8b52d
END:VEVENT
BEGIN:VEVENT
DTSTART;TZID=America/New_York:20280629T180000
DTEND;TZID=America/New_York:20280629T200000
DTSTAMP:20260420T141818
CREATED:20251118T190034Z
LAST-MODIFIED:20260102T190636Z
UID:10001716-1845914400-1845921600@talyardbrewing.com
SUMMARY:Trivia
DESCRIPTION:Thursday Trivia Nights 🧠🍻 \nTest your knowledge and compete for bragging rights.\nEvery Thursday | 6–8PM | Downstairs Taproom \nBring your crew\, grab a pint\, and let’s see what you’ve got.
URL:https://talyardbrewing.com/event-detail/trivia/2028-06-29/
ATTACH;FMTTYPE=image/png:https://craftpeak-cooler-images.imgix.net/talyard-brewing-co/TRIVIA.png?auto=compress%2Cformat&ixlib=php-3.3.1&s=9cd29d7ac8a55f266ae73b8a5eac2330
END:VEVENT
END:VCALENDAR