BEGIN:VCALENDAR
VERSION:2.0
PRODID:-//Talyard Brewing Co - ECPv6.15.12.2//NONSGML v1.0//EN
CALSCALE:GREGORIAN
METHOD:PUBLISH
X-WR-CALNAME:Talyard Brewing Co
X-ORIGINAL-URL:https://talyardbrewing.com
X-WR-CALDESC:Events for Talyard Brewing Co
REFRESH-INTERVAL;VALUE=DURATION:PT1H
X-Robots-Tag:noindex
X-PUBLISHED-TTL:PT1H
BEGIN:VTIMEZONE
TZID:America/New_York
BEGIN:DAYLIGHT
TZOFFSETFROM:-0500
TZOFFSETTO:-0400
TZNAME:EDT
DTSTART:20260308T070000
END:DAYLIGHT
BEGIN:STANDARD
TZOFFSETFROM:-0400
TZOFFSETTO:-0500
TZNAME:EST
DTSTART:20261101T060000
END:STANDARD
BEGIN:DAYLIGHT
TZOFFSETFROM:-0500
TZOFFSETTO:-0400
TZNAME:EDT
DTSTART:20270314T070000
END:DAYLIGHT
BEGIN:STANDARD
TZOFFSETFROM:-0400
TZOFFSETTO:-0500
TZNAME:EST
DTSTART:20271107T060000
END:STANDARD
BEGIN:DAYLIGHT
TZOFFSETFROM:-0500
TZOFFSETTO:-0400
TZNAME:EDT
DTSTART:20280312T070000
END:DAYLIGHT
BEGIN:STANDARD
TZOFFSETFROM:-0400
TZOFFSETTO:-0500
TZNAME:EST
DTSTART:20281105T060000
END:STANDARD
END:VTIMEZONE
BEGIN:VEVENT
DTSTART;TZID=America/New_York:20270802T153000
DTEND;TZID=America/New_York:20270802T183000
DTSTAMP:20260420T000053
CREATED:20251028T203409Z
LAST-MODIFIED:20260406T173731Z
UID:10001058-1817220600-1817231400@talyardbrewing.com
SUMMARY:Happy Hour
DESCRIPTION:Happy Hour | 3:30–6:30 PM\n$2 off pints & apps\, and $5 off flights!
URL:https://talyardbrewing.com/event-detail/happy-hour/2027-08-02/
LOCATION:Taproom
ATTACH;FMTTYPE=image/jpeg:https://craftpeak-cooler-images.imgix.net/talyard-brewing-co/brussels-3.jpeg?auto=compress%2Cformat&ixlib=php-3.3.1&s=97a1e68d34fc897f7257d7ca8dc8b52d
END:VEVENT
BEGIN:VEVENT
DTSTART;TZID=America/New_York:20270803T153000
DTEND;TZID=America/New_York:20270803T183000
DTSTAMP:20260420T000053
CREATED:20251028T203409Z
LAST-MODIFIED:20260406T173731Z
UID:10001999-1817307000-1817317800@talyardbrewing.com
SUMMARY:Happy Hour
DESCRIPTION:Happy Hour | 3:30–6:30 PM\n$2 off pints & apps\, and $5 off flights!
URL:https://talyardbrewing.com/event-detail/happy-hour/2027-08-03/
LOCATION:Taproom
ATTACH;FMTTYPE=image/jpeg:https://craftpeak-cooler-images.imgix.net/talyard-brewing-co/brussels-3.jpeg?auto=compress%2Cformat&ixlib=php-3.3.1&s=97a1e68d34fc897f7257d7ca8dc8b52d
END:VEVENT
BEGIN:VEVENT
DTSTART;TZID=America/New_York:20270804T153000
DTEND;TZID=America/New_York:20270804T183000
DTSTAMP:20260420T000053
CREATED:20251028T203409Z
LAST-MODIFIED:20260406T173731Z
UID:10001059-1817393400-1817404200@talyardbrewing.com
SUMMARY:Happy Hour
DESCRIPTION:Happy Hour | 3:30–6:30 PM\n$2 off pints & apps\, and $5 off flights!
URL:https://talyardbrewing.com/event-detail/happy-hour/2027-08-04/
LOCATION:Taproom
ATTACH;FMTTYPE=image/jpeg:https://craftpeak-cooler-images.imgix.net/talyard-brewing-co/brussels-3.jpeg?auto=compress%2Cformat&ixlib=php-3.3.1&s=97a1e68d34fc897f7257d7ca8dc8b52d
END:VEVENT
BEGIN:VEVENT
DTSTART;TZID=America/New_York:20270805T153000
DTEND;TZID=America/New_York:20270805T183000
DTSTAMP:20260420T000053
CREATED:20251028T203409Z
LAST-MODIFIED:20260406T173731Z
UID:10001060-1817479800-1817490600@talyardbrewing.com
SUMMARY:Happy Hour
DESCRIPTION:Happy Hour | 3:30–6:30 PM\n$2 off pints & apps\, and $5 off flights!
URL:https://talyardbrewing.com/event-detail/happy-hour/2027-08-05/
LOCATION:Taproom
ATTACH;FMTTYPE=image/jpeg:https://craftpeak-cooler-images.imgix.net/talyard-brewing-co/brussels-3.jpeg?auto=compress%2Cformat&ixlib=php-3.3.1&s=97a1e68d34fc897f7257d7ca8dc8b52d
END:VEVENT
BEGIN:VEVENT
DTSTART;TZID=America/New_York:20270805T180000
DTEND;TZID=America/New_York:20270805T200000
DTSTAMP:20260420T000053
CREATED:20251118T190034Z
LAST-MODIFIED:20260102T190636Z
UID:10001669-1817488800-1817496000@talyardbrewing.com
SUMMARY:Trivia
DESCRIPTION:Thursday Trivia Nights 🧠🍻 \nTest your knowledge and compete for bragging rights.\nEvery Thursday | 6–8PM | Downstairs Taproom \nBring your crew\, grab a pint\, and let’s see what you’ve got.
URL:https://talyardbrewing.com/event-detail/trivia/2027-08-05/
ATTACH;FMTTYPE=image/png:https://craftpeak-cooler-images.imgix.net/talyard-brewing-co/TRIVIA.png?auto=compress%2Cformat&ixlib=php-3.3.1&s=9cd29d7ac8a55f266ae73b8a5eac2330
END:VEVENT
BEGIN:VEVENT
DTSTART;TZID=America/New_York:20270809T153000
DTEND;TZID=America/New_York:20270809T183000
DTSTAMP:20260420T000053
CREATED:20251028T203409Z
LAST-MODIFIED:20260406T173731Z
UID:10001061-1817825400-1817836200@talyardbrewing.com
SUMMARY:Happy Hour
DESCRIPTION:Happy Hour | 3:30–6:30 PM\n$2 off pints & apps\, and $5 off flights!
URL:https://talyardbrewing.com/event-detail/happy-hour/2027-08-09/
LOCATION:Taproom
ATTACH;FMTTYPE=image/jpeg:https://craftpeak-cooler-images.imgix.net/talyard-brewing-co/brussels-3.jpeg?auto=compress%2Cformat&ixlib=php-3.3.1&s=97a1e68d34fc897f7257d7ca8dc8b52d
END:VEVENT
BEGIN:VEVENT
DTSTART;TZID=America/New_York:20270810T153000
DTEND;TZID=America/New_York:20270810T183000
DTSTAMP:20260420T000053
CREATED:20251028T203409Z
LAST-MODIFIED:20260406T173731Z
UID:10002000-1817911800-1817922600@talyardbrewing.com
SUMMARY:Happy Hour
DESCRIPTION:Happy Hour | 3:30–6:30 PM\n$2 off pints & apps\, and $5 off flights!
URL:https://talyardbrewing.com/event-detail/happy-hour/2027-08-10/
LOCATION:Taproom
ATTACH;FMTTYPE=image/jpeg:https://craftpeak-cooler-images.imgix.net/talyard-brewing-co/brussels-3.jpeg?auto=compress%2Cformat&ixlib=php-3.3.1&s=97a1e68d34fc897f7257d7ca8dc8b52d
END:VEVENT
BEGIN:VEVENT
DTSTART;TZID=America/New_York:20270811T153000
DTEND;TZID=America/New_York:20270811T183000
DTSTAMP:20260420T000053
CREATED:20251028T203409Z
LAST-MODIFIED:20260406T173731Z
UID:10001062-1817998200-1818009000@talyardbrewing.com
SUMMARY:Happy Hour
DESCRIPTION:Happy Hour | 3:30–6:30 PM\n$2 off pints & apps\, and $5 off flights!
URL:https://talyardbrewing.com/event-detail/happy-hour/2027-08-11/
LOCATION:Taproom
ATTACH;FMTTYPE=image/jpeg:https://craftpeak-cooler-images.imgix.net/talyard-brewing-co/brussels-3.jpeg?auto=compress%2Cformat&ixlib=php-3.3.1&s=97a1e68d34fc897f7257d7ca8dc8b52d
END:VEVENT
BEGIN:VEVENT
DTSTART;TZID=America/New_York:20270812T153000
DTEND;TZID=America/New_York:20270812T183000
DTSTAMP:20260420T000053
CREATED:20251028T203409Z
LAST-MODIFIED:20260406T173731Z
UID:10001063-1818084600-1818095400@talyardbrewing.com
SUMMARY:Happy Hour
DESCRIPTION:Happy Hour | 3:30–6:30 PM\n$2 off pints & apps\, and $5 off flights!
URL:https://talyardbrewing.com/event-detail/happy-hour/2027-08-12/
LOCATION:Taproom
ATTACH;FMTTYPE=image/jpeg:https://craftpeak-cooler-images.imgix.net/talyard-brewing-co/brussels-3.jpeg?auto=compress%2Cformat&ixlib=php-3.3.1&s=97a1e68d34fc897f7257d7ca8dc8b52d
END:VEVENT
BEGIN:VEVENT
DTSTART;TZID=America/New_York:20270812T180000
DTEND;TZID=America/New_York:20270812T200000
DTSTAMP:20260420T000053
CREATED:20251118T190034Z
LAST-MODIFIED:20260102T190636Z
UID:10001670-1818093600-1818100800@talyardbrewing.com
SUMMARY:Trivia
DESCRIPTION:Thursday Trivia Nights 🧠🍻 \nTest your knowledge and compete for bragging rights.\nEvery Thursday | 6–8PM | Downstairs Taproom \nBring your crew\, grab a pint\, and let’s see what you’ve got.
URL:https://talyardbrewing.com/event-detail/trivia/2027-08-12/
ATTACH;FMTTYPE=image/png:https://craftpeak-cooler-images.imgix.net/talyard-brewing-co/TRIVIA.png?auto=compress%2Cformat&ixlib=php-3.3.1&s=9cd29d7ac8a55f266ae73b8a5eac2330
END:VEVENT
BEGIN:VEVENT
DTSTART;TZID=America/New_York:20270816T153000
DTEND;TZID=America/New_York:20270816T183000
DTSTAMP:20260420T000053
CREATED:20251028T203409Z
LAST-MODIFIED:20260406T173731Z
UID:10001064-1818430200-1818441000@talyardbrewing.com
SUMMARY:Happy Hour
DESCRIPTION:Happy Hour | 3:30–6:30 PM\n$2 off pints & apps\, and $5 off flights!
URL:https://talyardbrewing.com/event-detail/happy-hour/2027-08-16/
LOCATION:Taproom
ATTACH;FMTTYPE=image/jpeg:https://craftpeak-cooler-images.imgix.net/talyard-brewing-co/brussels-3.jpeg?auto=compress%2Cformat&ixlib=php-3.3.1&s=97a1e68d34fc897f7257d7ca8dc8b52d
END:VEVENT
BEGIN:VEVENT
DTSTART;TZID=America/New_York:20270817T153000
DTEND;TZID=America/New_York:20270817T183000
DTSTAMP:20260420T000053
CREATED:20251028T203409Z
LAST-MODIFIED:20260406T173731Z
UID:10002001-1818516600-1818527400@talyardbrewing.com
SUMMARY:Happy Hour
DESCRIPTION:Happy Hour | 3:30–6:30 PM\n$2 off pints & apps\, and $5 off flights!
URL:https://talyardbrewing.com/event-detail/happy-hour/2027-08-17/
LOCATION:Taproom
ATTACH;FMTTYPE=image/jpeg:https://craftpeak-cooler-images.imgix.net/talyard-brewing-co/brussels-3.jpeg?auto=compress%2Cformat&ixlib=php-3.3.1&s=97a1e68d34fc897f7257d7ca8dc8b52d
END:VEVENT
BEGIN:VEVENT
DTSTART;TZID=America/New_York:20270818T153000
DTEND;TZID=America/New_York:20270818T183000
DTSTAMP:20260420T000053
CREATED:20251028T203409Z
LAST-MODIFIED:20260406T173731Z
UID:10001065-1818603000-1818613800@talyardbrewing.com
SUMMARY:Happy Hour
DESCRIPTION:Happy Hour | 3:30–6:30 PM\n$2 off pints & apps\, and $5 off flights!
URL:https://talyardbrewing.com/event-detail/happy-hour/2027-08-18/
LOCATION:Taproom
ATTACH;FMTTYPE=image/jpeg:https://craftpeak-cooler-images.imgix.net/talyard-brewing-co/brussels-3.jpeg?auto=compress%2Cformat&ixlib=php-3.3.1&s=97a1e68d34fc897f7257d7ca8dc8b52d
END:VEVENT
BEGIN:VEVENT
DTSTART;TZID=America/New_York:20270819T153000
DTEND;TZID=America/New_York:20270819T183000
DTSTAMP:20260420T000053
CREATED:20251028T203409Z
LAST-MODIFIED:20260406T173731Z
UID:10001066-1818689400-1818700200@talyardbrewing.com
SUMMARY:Happy Hour
DESCRIPTION:Happy Hour | 3:30–6:30 PM\n$2 off pints & apps\, and $5 off flights!
URL:https://talyardbrewing.com/event-detail/happy-hour/2027-08-19/
LOCATION:Taproom
ATTACH;FMTTYPE=image/jpeg:https://craftpeak-cooler-images.imgix.net/talyard-brewing-co/brussels-3.jpeg?auto=compress%2Cformat&ixlib=php-3.3.1&s=97a1e68d34fc897f7257d7ca8dc8b52d
END:VEVENT
BEGIN:VEVENT
DTSTART;TZID=America/New_York:20270819T180000
DTEND;TZID=America/New_York:20270819T200000
DTSTAMP:20260420T000053
CREATED:20251118T190034Z
LAST-MODIFIED:20260102T190636Z
UID:10001671-1818698400-1818705600@talyardbrewing.com
SUMMARY:Trivia
DESCRIPTION:Thursday Trivia Nights 🧠🍻 \nTest your knowledge and compete for bragging rights.\nEvery Thursday | 6–8PM | Downstairs Taproom \nBring your crew\, grab a pint\, and let’s see what you’ve got.
URL:https://talyardbrewing.com/event-detail/trivia/2027-08-19/
ATTACH;FMTTYPE=image/png:https://craftpeak-cooler-images.imgix.net/talyard-brewing-co/TRIVIA.png?auto=compress%2Cformat&ixlib=php-3.3.1&s=9cd29d7ac8a55f266ae73b8a5eac2330
END:VEVENT
BEGIN:VEVENT
DTSTART;TZID=America/New_York:20270823T153000
DTEND;TZID=America/New_York:20270823T183000
DTSTAMP:20260420T000053
CREATED:20251028T203409Z
LAST-MODIFIED:20260406T173731Z
UID:10001067-1819035000-1819045800@talyardbrewing.com
SUMMARY:Happy Hour
DESCRIPTION:Happy Hour | 3:30–6:30 PM\n$2 off pints & apps\, and $5 off flights!
URL:https://talyardbrewing.com/event-detail/happy-hour/2027-08-23/
LOCATION:Taproom
ATTACH;FMTTYPE=image/jpeg:https://craftpeak-cooler-images.imgix.net/talyard-brewing-co/brussels-3.jpeg?auto=compress%2Cformat&ixlib=php-3.3.1&s=97a1e68d34fc897f7257d7ca8dc8b52d
END:VEVENT
BEGIN:VEVENT
DTSTART;TZID=America/New_York:20270824T153000
DTEND;TZID=America/New_York:20270824T183000
DTSTAMP:20260420T000053
CREATED:20251028T203409Z
LAST-MODIFIED:20260406T173731Z
UID:10002002-1819121400-1819132200@talyardbrewing.com
SUMMARY:Happy Hour
DESCRIPTION:Happy Hour | 3:30–6:30 PM\n$2 off pints & apps\, and $5 off flights!
URL:https://talyardbrewing.com/event-detail/happy-hour/2027-08-24/
LOCATION:Taproom
ATTACH;FMTTYPE=image/jpeg:https://craftpeak-cooler-images.imgix.net/talyard-brewing-co/brussels-3.jpeg?auto=compress%2Cformat&ixlib=php-3.3.1&s=97a1e68d34fc897f7257d7ca8dc8b52d
END:VEVENT
BEGIN:VEVENT
DTSTART;TZID=America/New_York:20270825T153000
DTEND;TZID=America/New_York:20270825T183000
DTSTAMP:20260420T000053
CREATED:20251028T203409Z
LAST-MODIFIED:20260406T173731Z
UID:10001068-1819207800-1819218600@talyardbrewing.com
SUMMARY:Happy Hour
DESCRIPTION:Happy Hour | 3:30–6:30 PM\n$2 off pints & apps\, and $5 off flights!
URL:https://talyardbrewing.com/event-detail/happy-hour/2027-08-25/
LOCATION:Taproom
ATTACH;FMTTYPE=image/jpeg:https://craftpeak-cooler-images.imgix.net/talyard-brewing-co/brussels-3.jpeg?auto=compress%2Cformat&ixlib=php-3.3.1&s=97a1e68d34fc897f7257d7ca8dc8b52d
END:VEVENT
BEGIN:VEVENT
DTSTART;TZID=America/New_York:20270826T153000
DTEND;TZID=America/New_York:20270826T183000
DTSTAMP:20260420T000053
CREATED:20251028T203409Z
LAST-MODIFIED:20260406T173731Z
UID:10001069-1819294200-1819305000@talyardbrewing.com
SUMMARY:Happy Hour
DESCRIPTION:Happy Hour | 3:30–6:30 PM\n$2 off pints & apps\, and $5 off flights!
URL:https://talyardbrewing.com/event-detail/happy-hour/2027-08-26/
LOCATION:Taproom
ATTACH;FMTTYPE=image/jpeg:https://craftpeak-cooler-images.imgix.net/talyard-brewing-co/brussels-3.jpeg?auto=compress%2Cformat&ixlib=php-3.3.1&s=97a1e68d34fc897f7257d7ca8dc8b52d
END:VEVENT
BEGIN:VEVENT
DTSTART;TZID=America/New_York:20270826T180000
DTEND;TZID=America/New_York:20270826T200000
DTSTAMP:20260420T000053
CREATED:20251118T190034Z
LAST-MODIFIED:20260102T190636Z
UID:10001672-1819303200-1819310400@talyardbrewing.com
SUMMARY:Trivia
DESCRIPTION:Thursday Trivia Nights 🧠🍻 \nTest your knowledge and compete for bragging rights.\nEvery Thursday | 6–8PM | Downstairs Taproom \nBring your crew\, grab a pint\, and let’s see what you’ve got.
URL:https://talyardbrewing.com/event-detail/trivia/2027-08-26/
ATTACH;FMTTYPE=image/png:https://craftpeak-cooler-images.imgix.net/talyard-brewing-co/TRIVIA.png?auto=compress%2Cformat&ixlib=php-3.3.1&s=9cd29d7ac8a55f266ae73b8a5eac2330
END:VEVENT
BEGIN:VEVENT
DTSTART;TZID=America/New_York:20270830T153000
DTEND;TZID=America/New_York:20270830T183000
DTSTAMP:20260420T000053
CREATED:20251028T203409Z
LAST-MODIFIED:20260406T173731Z
UID:10001070-1819639800-1819650600@talyardbrewing.com
SUMMARY:Happy Hour
DESCRIPTION:Happy Hour | 3:30–6:30 PM\n$2 off pints & apps\, and $5 off flights!
URL:https://talyardbrewing.com/event-detail/happy-hour/2027-08-30/
LOCATION:Taproom
ATTACH;FMTTYPE=image/jpeg:https://craftpeak-cooler-images.imgix.net/talyard-brewing-co/brussels-3.jpeg?auto=compress%2Cformat&ixlib=php-3.3.1&s=97a1e68d34fc897f7257d7ca8dc8b52d
END:VEVENT
BEGIN:VEVENT
DTSTART;TZID=America/New_York:20270831T153000
DTEND;TZID=America/New_York:20270831T183000
DTSTAMP:20260420T000053
CREATED:20251028T203409Z
LAST-MODIFIED:20260406T173731Z
UID:10002003-1819726200-1819737000@talyardbrewing.com
SUMMARY:Happy Hour
DESCRIPTION:Happy Hour | 3:30–6:30 PM\n$2 off pints & apps\, and $5 off flights!
URL:https://talyardbrewing.com/event-detail/happy-hour/2027-08-31/
LOCATION:Taproom
ATTACH;FMTTYPE=image/jpeg:https://craftpeak-cooler-images.imgix.net/talyard-brewing-co/brussels-3.jpeg?auto=compress%2Cformat&ixlib=php-3.3.1&s=97a1e68d34fc897f7257d7ca8dc8b52d
END:VEVENT
END:VCALENDAR