BEGIN:VCALENDAR
VERSION:2.0
PRODID:-//Talyard Brewing Co - ECPv6.15.12.2//NONSGML v1.0//EN
CALSCALE:GREGORIAN
METHOD:PUBLISH
X-WR-CALNAME:Talyard Brewing Co
X-ORIGINAL-URL:https://talyardbrewing.com
X-WR-CALDESC:Events for Talyard Brewing Co
REFRESH-INTERVAL;VALUE=DURATION:PT1H
X-Robots-Tag:noindex
X-PUBLISHED-TTL:PT1H
BEGIN:VTIMEZONE
TZID:America/New_York
BEGIN:DAYLIGHT
TZOFFSETFROM:-0500
TZOFFSETTO:-0400
TZNAME:EDT
DTSTART:20250309T070000
END:DAYLIGHT
BEGIN:STANDARD
TZOFFSETFROM:-0400
TZOFFSETTO:-0500
TZNAME:EST
DTSTART:20251102T060000
END:STANDARD
BEGIN:DAYLIGHT
TZOFFSETFROM:-0500
TZOFFSETTO:-0400
TZNAME:EDT
DTSTART:20260308T070000
END:DAYLIGHT
BEGIN:STANDARD
TZOFFSETFROM:-0400
TZOFFSETTO:-0500
TZNAME:EST
DTSTART:20261101T060000
END:STANDARD
BEGIN:DAYLIGHT
TZOFFSETFROM:-0500
TZOFFSETTO:-0400
TZNAME:EDT
DTSTART:20270314T070000
END:DAYLIGHT
BEGIN:STANDARD
TZOFFSETFROM:-0400
TZOFFSETTO:-0500
TZNAME:EST
DTSTART:20271107T060000
END:STANDARD
END:VTIMEZONE
BEGIN:VEVENT
DTSTART;TZID=America/New_York:20261201T153000
DTEND;TZID=America/New_York:20261201T183000
DTSTAMP:20260419T120813
CREATED:20251028T203409Z
LAST-MODIFIED:20260406T173731Z
UID:10001964-1796139000-1796149800@talyardbrewing.com
SUMMARY:Happy Hour
DESCRIPTION:Happy Hour | 3:30–6:30 PM\n$2 off pints & apps\, and $5 off flights!
URL:https://talyardbrewing.com/event-detail/happy-hour/2026-12-01/
LOCATION:Taproom
ATTACH;FMTTYPE=image/jpeg:https://craftpeak-cooler-images.imgix.net/talyard-brewing-co/brussels-3.jpeg?auto=compress%2Cformat&ixlib=php-3.3.1&s=97a1e68d34fc897f7257d7ca8dc8b52d
END:VEVENT
BEGIN:VEVENT
DTSTART;TZID=America/New_York:20261202T153000
DTEND;TZID=America/New_York:20261202T183000
DTSTAMP:20260419T120813
CREATED:20251028T203409Z
LAST-MODIFIED:20260406T173731Z
UID:10000954-1796225400-1796236200@talyardbrewing.com
SUMMARY:Happy Hour
DESCRIPTION:Happy Hour | 3:30–6:30 PM\n$2 off pints & apps\, and $5 off flights!
URL:https://talyardbrewing.com/event-detail/happy-hour/2026-12-02/
LOCATION:Taproom
ATTACH;FMTTYPE=image/jpeg:https://craftpeak-cooler-images.imgix.net/talyard-brewing-co/brussels-3.jpeg?auto=compress%2Cformat&ixlib=php-3.3.1&s=97a1e68d34fc897f7257d7ca8dc8b52d
END:VEVENT
BEGIN:VEVENT
DTSTART;TZID=America/New_York:20261203T153000
DTEND;TZID=America/New_York:20261203T183000
DTSTAMP:20260419T120813
CREATED:20251028T203409Z
LAST-MODIFIED:20260406T173731Z
UID:10000955-1796311800-1796322600@talyardbrewing.com
SUMMARY:Happy Hour
DESCRIPTION:Happy Hour | 3:30–6:30 PM\n$2 off pints & apps\, and $5 off flights!
URL:https://talyardbrewing.com/event-detail/happy-hour/2026-12-03/
LOCATION:Taproom
ATTACH;FMTTYPE=image/jpeg:https://craftpeak-cooler-images.imgix.net/talyard-brewing-co/brussels-3.jpeg?auto=compress%2Cformat&ixlib=php-3.3.1&s=97a1e68d34fc897f7257d7ca8dc8b52d
END:VEVENT
BEGIN:VEVENT
DTSTART;TZID=America/New_York:20261203T180000
DTEND;TZID=America/New_York:20261203T200000
DTSTAMP:20260419T120813
CREATED:20251118T190034Z
LAST-MODIFIED:20260102T190636Z
UID:10001634-1796320800-1796328000@talyardbrewing.com
SUMMARY:Trivia
DESCRIPTION:Thursday Trivia Nights 🧠🍻 \nTest your knowledge and compete for bragging rights.\nEvery Thursday | 6–8PM | Downstairs Taproom \nBring your crew\, grab a pint\, and let’s see what you’ve got.
URL:https://talyardbrewing.com/event-detail/trivia/2026-12-03/
ATTACH;FMTTYPE=image/png:https://craftpeak-cooler-images.imgix.net/talyard-brewing-co/TRIVIA.png?auto=compress%2Cformat&ixlib=php-3.3.1&s=9cd29d7ac8a55f266ae73b8a5eac2330
END:VEVENT
BEGIN:VEVENT
DTSTART;TZID=America/New_York:20261207T153000
DTEND;TZID=America/New_York:20261207T183000
DTSTAMP:20260419T120813
CREATED:20251028T203409Z
LAST-MODIFIED:20260406T173731Z
UID:10000956-1796657400-1796668200@talyardbrewing.com
SUMMARY:Happy Hour
DESCRIPTION:Happy Hour | 3:30–6:30 PM\n$2 off pints & apps\, and $5 off flights!
URL:https://talyardbrewing.com/event-detail/happy-hour/2026-12-07/
LOCATION:Taproom
ATTACH;FMTTYPE=image/jpeg:https://craftpeak-cooler-images.imgix.net/talyard-brewing-co/brussels-3.jpeg?auto=compress%2Cformat&ixlib=php-3.3.1&s=97a1e68d34fc897f7257d7ca8dc8b52d
END:VEVENT
BEGIN:VEVENT
DTSTART;TZID=America/New_York:20261208T153000
DTEND;TZID=America/New_York:20261208T183000
DTSTAMP:20260419T120813
CREATED:20251028T203409Z
LAST-MODIFIED:20260406T173731Z
UID:10001965-1796743800-1796754600@talyardbrewing.com
SUMMARY:Happy Hour
DESCRIPTION:Happy Hour | 3:30–6:30 PM\n$2 off pints & apps\, and $5 off flights!
URL:https://talyardbrewing.com/event-detail/happy-hour/2026-12-08/
LOCATION:Taproom
ATTACH;FMTTYPE=image/jpeg:https://craftpeak-cooler-images.imgix.net/talyard-brewing-co/brussels-3.jpeg?auto=compress%2Cformat&ixlib=php-3.3.1&s=97a1e68d34fc897f7257d7ca8dc8b52d
END:VEVENT
BEGIN:VEVENT
DTSTART;TZID=America/New_York:20261209T153000
DTEND;TZID=America/New_York:20261209T183000
DTSTAMP:20260419T120813
CREATED:20251028T203409Z
LAST-MODIFIED:20260406T173731Z
UID:10000957-1796830200-1796841000@talyardbrewing.com
SUMMARY:Happy Hour
DESCRIPTION:Happy Hour | 3:30–6:30 PM\n$2 off pints & apps\, and $5 off flights!
URL:https://talyardbrewing.com/event-detail/happy-hour/2026-12-09/
LOCATION:Taproom
ATTACH;FMTTYPE=image/jpeg:https://craftpeak-cooler-images.imgix.net/talyard-brewing-co/brussels-3.jpeg?auto=compress%2Cformat&ixlib=php-3.3.1&s=97a1e68d34fc897f7257d7ca8dc8b52d
END:VEVENT
BEGIN:VEVENT
DTSTART;TZID=America/New_York:20261210T153000
DTEND;TZID=America/New_York:20261210T183000
DTSTAMP:20260419T120813
CREATED:20251028T203409Z
LAST-MODIFIED:20260406T173731Z
UID:10000958-1796916600-1796927400@talyardbrewing.com
SUMMARY:Happy Hour
DESCRIPTION:Happy Hour | 3:30–6:30 PM\n$2 off pints & apps\, and $5 off flights!
URL:https://talyardbrewing.com/event-detail/happy-hour/2026-12-10/
LOCATION:Taproom
ATTACH;FMTTYPE=image/jpeg:https://craftpeak-cooler-images.imgix.net/talyard-brewing-co/brussels-3.jpeg?auto=compress%2Cformat&ixlib=php-3.3.1&s=97a1e68d34fc897f7257d7ca8dc8b52d
END:VEVENT
BEGIN:VEVENT
DTSTART;TZID=America/New_York:20261210T180000
DTEND;TZID=America/New_York:20261210T200000
DTSTAMP:20260419T120813
CREATED:20251118T190034Z
LAST-MODIFIED:20260102T190636Z
UID:10001635-1796925600-1796932800@talyardbrewing.com
SUMMARY:Trivia
DESCRIPTION:Thursday Trivia Nights 🧠🍻 \nTest your knowledge and compete for bragging rights.\nEvery Thursday | 6–8PM | Downstairs Taproom \nBring your crew\, grab a pint\, and let’s see what you’ve got.
URL:https://talyardbrewing.com/event-detail/trivia/2026-12-10/
ATTACH;FMTTYPE=image/png:https://craftpeak-cooler-images.imgix.net/talyard-brewing-co/TRIVIA.png?auto=compress%2Cformat&ixlib=php-3.3.1&s=9cd29d7ac8a55f266ae73b8a5eac2330
END:VEVENT
BEGIN:VEVENT
DTSTART;TZID=America/New_York:20261214T153000
DTEND;TZID=America/New_York:20261214T183000
DTSTAMP:20260419T120813
CREATED:20251028T203409Z
LAST-MODIFIED:20260406T173731Z
UID:10000959-1797262200-1797273000@talyardbrewing.com
SUMMARY:Happy Hour
DESCRIPTION:Happy Hour | 3:30–6:30 PM\n$2 off pints & apps\, and $5 off flights!
URL:https://talyardbrewing.com/event-detail/happy-hour/2026-12-14/
LOCATION:Taproom
ATTACH;FMTTYPE=image/jpeg:https://craftpeak-cooler-images.imgix.net/talyard-brewing-co/brussels-3.jpeg?auto=compress%2Cformat&ixlib=php-3.3.1&s=97a1e68d34fc897f7257d7ca8dc8b52d
END:VEVENT
BEGIN:VEVENT
DTSTART;TZID=America/New_York:20261215T153000
DTEND;TZID=America/New_York:20261215T183000
DTSTAMP:20260419T120813
CREATED:20251028T203409Z
LAST-MODIFIED:20260406T173731Z
UID:10001966-1797348600-1797359400@talyardbrewing.com
SUMMARY:Happy Hour
DESCRIPTION:Happy Hour | 3:30–6:30 PM\n$2 off pints & apps\, and $5 off flights!
URL:https://talyardbrewing.com/event-detail/happy-hour/2026-12-15/
LOCATION:Taproom
ATTACH;FMTTYPE=image/jpeg:https://craftpeak-cooler-images.imgix.net/talyard-brewing-co/brussels-3.jpeg?auto=compress%2Cformat&ixlib=php-3.3.1&s=97a1e68d34fc897f7257d7ca8dc8b52d
END:VEVENT
BEGIN:VEVENT
DTSTART;TZID=America/New_York:20261216T153000
DTEND;TZID=America/New_York:20261216T183000
DTSTAMP:20260419T120813
CREATED:20251028T203409Z
LAST-MODIFIED:20260406T173731Z
UID:10000960-1797435000-1797445800@talyardbrewing.com
SUMMARY:Happy Hour
DESCRIPTION:Happy Hour | 3:30–6:30 PM\n$2 off pints & apps\, and $5 off flights!
URL:https://talyardbrewing.com/event-detail/happy-hour/2026-12-16/
LOCATION:Taproom
ATTACH;FMTTYPE=image/jpeg:https://craftpeak-cooler-images.imgix.net/talyard-brewing-co/brussels-3.jpeg?auto=compress%2Cformat&ixlib=php-3.3.1&s=97a1e68d34fc897f7257d7ca8dc8b52d
END:VEVENT
BEGIN:VEVENT
DTSTART;TZID=America/New_York:20261217T153000
DTEND;TZID=America/New_York:20261217T183000
DTSTAMP:20260419T120813
CREATED:20251028T203409Z
LAST-MODIFIED:20260406T173731Z
UID:10000961-1797521400-1797532200@talyardbrewing.com
SUMMARY:Happy Hour
DESCRIPTION:Happy Hour | 3:30–6:30 PM\n$2 off pints & apps\, and $5 off flights!
URL:https://talyardbrewing.com/event-detail/happy-hour/2026-12-17/
LOCATION:Taproom
ATTACH;FMTTYPE=image/jpeg:https://craftpeak-cooler-images.imgix.net/talyard-brewing-co/brussels-3.jpeg?auto=compress%2Cformat&ixlib=php-3.3.1&s=97a1e68d34fc897f7257d7ca8dc8b52d
END:VEVENT
BEGIN:VEVENT
DTSTART;TZID=America/New_York:20261217T180000
DTEND;TZID=America/New_York:20261217T200000
DTSTAMP:20260419T120813
CREATED:20251118T190034Z
LAST-MODIFIED:20260102T190636Z
UID:10001636-1797530400-1797537600@talyardbrewing.com
SUMMARY:Trivia
DESCRIPTION:Thursday Trivia Nights 🧠🍻 \nTest your knowledge and compete for bragging rights.\nEvery Thursday | 6–8PM | Downstairs Taproom \nBring your crew\, grab a pint\, and let’s see what you’ve got.
URL:https://talyardbrewing.com/event-detail/trivia/2026-12-17/
ATTACH;FMTTYPE=image/png:https://craftpeak-cooler-images.imgix.net/talyard-brewing-co/TRIVIA.png?auto=compress%2Cformat&ixlib=php-3.3.1&s=9cd29d7ac8a55f266ae73b8a5eac2330
END:VEVENT
BEGIN:VEVENT
DTSTART;TZID=America/New_York:20261221T153000
DTEND;TZID=America/New_York:20261221T183000
DTSTAMP:20260419T120813
CREATED:20251028T203409Z
LAST-MODIFIED:20260406T173731Z
UID:10000962-1797867000-1797877800@talyardbrewing.com
SUMMARY:Happy Hour
DESCRIPTION:Happy Hour | 3:30–6:30 PM\n$2 off pints & apps\, and $5 off flights!
URL:https://talyardbrewing.com/event-detail/happy-hour/2026-12-21/
LOCATION:Taproom
ATTACH;FMTTYPE=image/jpeg:https://craftpeak-cooler-images.imgix.net/talyard-brewing-co/brussels-3.jpeg?auto=compress%2Cformat&ixlib=php-3.3.1&s=97a1e68d34fc897f7257d7ca8dc8b52d
END:VEVENT
BEGIN:VEVENT
DTSTART;TZID=America/New_York:20261222T153000
DTEND;TZID=America/New_York:20261222T183000
DTSTAMP:20260419T120813
CREATED:20251028T203409Z
LAST-MODIFIED:20260406T173731Z
UID:10001967-1797953400-1797964200@talyardbrewing.com
SUMMARY:Happy Hour
DESCRIPTION:Happy Hour | 3:30–6:30 PM\n$2 off pints & apps\, and $5 off flights!
URL:https://talyardbrewing.com/event-detail/happy-hour/2026-12-22/
LOCATION:Taproom
ATTACH;FMTTYPE=image/jpeg:https://craftpeak-cooler-images.imgix.net/talyard-brewing-co/brussels-3.jpeg?auto=compress%2Cformat&ixlib=php-3.3.1&s=97a1e68d34fc897f7257d7ca8dc8b52d
END:VEVENT
BEGIN:VEVENT
DTSTART;TZID=America/New_York:20261223T153000
DTEND;TZID=America/New_York:20261223T183000
DTSTAMP:20260419T120813
CREATED:20251028T203409Z
LAST-MODIFIED:20260406T173731Z
UID:10000963-1798039800-1798050600@talyardbrewing.com
SUMMARY:Happy Hour
DESCRIPTION:Happy Hour | 3:30–6:30 PM\n$2 off pints & apps\, and $5 off flights!
URL:https://talyardbrewing.com/event-detail/happy-hour/2026-12-23/
LOCATION:Taproom
ATTACH;FMTTYPE=image/jpeg:https://craftpeak-cooler-images.imgix.net/talyard-brewing-co/brussels-3.jpeg?auto=compress%2Cformat&ixlib=php-3.3.1&s=97a1e68d34fc897f7257d7ca8dc8b52d
END:VEVENT
BEGIN:VEVENT
DTSTART;TZID=America/New_York:20261224T153000
DTEND;TZID=America/New_York:20261224T183000
DTSTAMP:20260419T120813
CREATED:20251028T203409Z
LAST-MODIFIED:20260406T173731Z
UID:10000964-1798126200-1798137000@talyardbrewing.com
SUMMARY:Happy Hour
DESCRIPTION:Happy Hour | 3:30–6:30 PM\n$2 off pints & apps\, and $5 off flights!
URL:https://talyardbrewing.com/event-detail/happy-hour/2026-12-24/
LOCATION:Taproom
ATTACH;FMTTYPE=image/jpeg:https://craftpeak-cooler-images.imgix.net/talyard-brewing-co/brussels-3.jpeg?auto=compress%2Cformat&ixlib=php-3.3.1&s=97a1e68d34fc897f7257d7ca8dc8b52d
END:VEVENT
BEGIN:VEVENT
DTSTART;TZID=America/New_York:20261224T180000
DTEND;TZID=America/New_York:20261224T200000
DTSTAMP:20260419T120813
CREATED:20251118T190034Z
LAST-MODIFIED:20260102T190636Z
UID:10001637-1798135200-1798142400@talyardbrewing.com
SUMMARY:Trivia
DESCRIPTION:Thursday Trivia Nights 🧠🍻 \nTest your knowledge and compete for bragging rights.\nEvery Thursday | 6–8PM | Downstairs Taproom \nBring your crew\, grab a pint\, and let’s see what you’ve got.
URL:https://talyardbrewing.com/event-detail/trivia/2026-12-24/
ATTACH;FMTTYPE=image/png:https://craftpeak-cooler-images.imgix.net/talyard-brewing-co/TRIVIA.png?auto=compress%2Cformat&ixlib=php-3.3.1&s=9cd29d7ac8a55f266ae73b8a5eac2330
END:VEVENT
BEGIN:VEVENT
DTSTART;TZID=America/New_York:20261228T153000
DTEND;TZID=America/New_York:20261228T183000
DTSTAMP:20260419T120813
CREATED:20251028T203409Z
LAST-MODIFIED:20260406T173731Z
UID:10000965-1798471800-1798482600@talyardbrewing.com
SUMMARY:Happy Hour
DESCRIPTION:Happy Hour | 3:30–6:30 PM\n$2 off pints & apps\, and $5 off flights!
URL:https://talyardbrewing.com/event-detail/happy-hour/2026-12-28/
LOCATION:Taproom
ATTACH;FMTTYPE=image/jpeg:https://craftpeak-cooler-images.imgix.net/talyard-brewing-co/brussels-3.jpeg?auto=compress%2Cformat&ixlib=php-3.3.1&s=97a1e68d34fc897f7257d7ca8dc8b52d
END:VEVENT
BEGIN:VEVENT
DTSTART;TZID=America/New_York:20261229T153000
DTEND;TZID=America/New_York:20261229T183000
DTSTAMP:20260419T120813
CREATED:20251028T203409Z
LAST-MODIFIED:20260406T173731Z
UID:10001968-1798558200-1798569000@talyardbrewing.com
SUMMARY:Happy Hour
DESCRIPTION:Happy Hour | 3:30–6:30 PM\n$2 off pints & apps\, and $5 off flights!
URL:https://talyardbrewing.com/event-detail/happy-hour/2026-12-29/
LOCATION:Taproom
ATTACH;FMTTYPE=image/jpeg:https://craftpeak-cooler-images.imgix.net/talyard-brewing-co/brussels-3.jpeg?auto=compress%2Cformat&ixlib=php-3.3.1&s=97a1e68d34fc897f7257d7ca8dc8b52d
END:VEVENT
BEGIN:VEVENT
DTSTART;TZID=America/New_York:20261230T153000
DTEND;TZID=America/New_York:20261230T183000
DTSTAMP:20260419T120813
CREATED:20251028T203409Z
LAST-MODIFIED:20260406T173731Z
UID:10000966-1798644600-1798655400@talyardbrewing.com
SUMMARY:Happy Hour
DESCRIPTION:Happy Hour | 3:30–6:30 PM\n$2 off pints & apps\, and $5 off flights!
URL:https://talyardbrewing.com/event-detail/happy-hour/2026-12-30/
LOCATION:Taproom
ATTACH;FMTTYPE=image/jpeg:https://craftpeak-cooler-images.imgix.net/talyard-brewing-co/brussels-3.jpeg?auto=compress%2Cformat&ixlib=php-3.3.1&s=97a1e68d34fc897f7257d7ca8dc8b52d
END:VEVENT
BEGIN:VEVENT
DTSTART;TZID=America/New_York:20261231T153000
DTEND;TZID=America/New_York:20261231T183000
DTSTAMP:20260419T120813
CREATED:20251028T203409Z
LAST-MODIFIED:20260406T173731Z
UID:10000967-1798731000-1798741800@talyardbrewing.com
SUMMARY:Happy Hour
DESCRIPTION:Happy Hour | 3:30–6:30 PM\n$2 off pints & apps\, and $5 off flights!
URL:https://talyardbrewing.com/event-detail/happy-hour/2026-12-31/
LOCATION:Taproom
ATTACH;FMTTYPE=image/jpeg:https://craftpeak-cooler-images.imgix.net/talyard-brewing-co/brussels-3.jpeg?auto=compress%2Cformat&ixlib=php-3.3.1&s=97a1e68d34fc897f7257d7ca8dc8b52d
END:VEVENT
BEGIN:VEVENT
DTSTART;TZID=America/New_York:20261231T180000
DTEND;TZID=America/New_York:20261231T200000
DTSTAMP:20260419T120813
CREATED:20251118T190034Z
LAST-MODIFIED:20260102T190636Z
UID:10001638-1798740000-1798747200@talyardbrewing.com
SUMMARY:Trivia
DESCRIPTION:Thursday Trivia Nights 🧠🍻 \nTest your knowledge and compete for bragging rights.\nEvery Thursday | 6–8PM | Downstairs Taproom \nBring your crew\, grab a pint\, and let’s see what you’ve got.
URL:https://talyardbrewing.com/event-detail/trivia/2026-12-31/
ATTACH;FMTTYPE=image/png:https://craftpeak-cooler-images.imgix.net/talyard-brewing-co/TRIVIA.png?auto=compress%2Cformat&ixlib=php-3.3.1&s=9cd29d7ac8a55f266ae73b8a5eac2330
END:VEVENT
END:VCALENDAR