BEGIN:VCALENDAR
VERSION:2.0
PRODID:-//Talyard Brewing Co - ECPv6.15.12.2//NONSGML v1.0//EN
CALSCALE:GREGORIAN
METHOD:PUBLISH
X-ORIGINAL-URL:https://talyardbrewing.com
X-WR-CALDESC:Events for Talyard Brewing Co
REFRESH-INTERVAL;VALUE=DURATION:PT1H
X-Robots-Tag:noindex
X-PUBLISHED-TTL:PT1H
BEGIN:VTIMEZONE
TZID:America/New_York
BEGIN:DAYLIGHT
TZOFFSETFROM:-0500
TZOFFSETTO:-0400
TZNAME:EDT
DTSTART:20250309T070000
END:DAYLIGHT
BEGIN:STANDARD
TZOFFSETFROM:-0400
TZOFFSETTO:-0500
TZNAME:EST
DTSTART:20251102T060000
END:STANDARD
BEGIN:DAYLIGHT
TZOFFSETFROM:-0500
TZOFFSETTO:-0400
TZNAME:EDT
DTSTART:20260308T070000
END:DAYLIGHT
BEGIN:STANDARD
TZOFFSETFROM:-0400
TZOFFSETTO:-0500
TZNAME:EST
DTSTART:20261101T060000
END:STANDARD
BEGIN:DAYLIGHT
TZOFFSETFROM:-0500
TZOFFSETTO:-0400
TZNAME:EDT
DTSTART:20270314T070000
END:DAYLIGHT
BEGIN:STANDARD
TZOFFSETFROM:-0400
TZOFFSETTO:-0500
TZNAME:EST
DTSTART:20271107T060000
END:STANDARD
END:VTIMEZONE
BEGIN:VEVENT
DTSTART;TZID=America/New_York:20261102T153000
DTEND;TZID=America/New_York:20261102T183000
DTSTAMP:20260419T110636
CREATED:20251028T203409Z
LAST-MODIFIED:20260406T173731Z
UID:10000941-1793633400-1793644200@talyardbrewing.com
SUMMARY:Happy Hour
DESCRIPTION:Happy Hour | 3:30–6:30 PM\n$2 off pints & apps\, and $5 off flights!
URL:https://talyardbrewing.com/event-detail/happy-hour/2026-11-02/
LOCATION:Taproom
ATTACH;FMTTYPE=image/jpeg:https://craftpeak-cooler-images.imgix.net/talyard-brewing-co/brussels-3.jpeg?auto=compress%2Cformat&ixlib=php-3.3.1&s=97a1e68d34fc897f7257d7ca8dc8b52d
END:VEVENT
BEGIN:VEVENT
DTSTART;TZID=America/New_York:20261103T153000
DTEND;TZID=America/New_York:20261103T183000
DTSTAMP:20260419T110636
CREATED:20251028T203409Z
LAST-MODIFIED:20260406T173731Z
UID:10001960-1793719800-1793730600@talyardbrewing.com
SUMMARY:Happy Hour
DESCRIPTION:Happy Hour | 3:30–6:30 PM\n$2 off pints & apps\, and $5 off flights!
URL:https://talyardbrewing.com/event-detail/happy-hour/2026-11-03/
LOCATION:Taproom
ATTACH;FMTTYPE=image/jpeg:https://craftpeak-cooler-images.imgix.net/talyard-brewing-co/brussels-3.jpeg?auto=compress%2Cformat&ixlib=php-3.3.1&s=97a1e68d34fc897f7257d7ca8dc8b52d
END:VEVENT
BEGIN:VEVENT
DTSTART;TZID=America/New_York:20261104T153000
DTEND;TZID=America/New_York:20261104T183000
DTSTAMP:20260419T110636
CREATED:20251028T203409Z
LAST-MODIFIED:20260406T173731Z
UID:10000942-1793806200-1793817000@talyardbrewing.com
SUMMARY:Happy Hour
DESCRIPTION:Happy Hour | 3:30–6:30 PM\n$2 off pints & apps\, and $5 off flights!
URL:https://talyardbrewing.com/event-detail/happy-hour/2026-11-04/
LOCATION:Taproom
ATTACH;FMTTYPE=image/jpeg:https://craftpeak-cooler-images.imgix.net/talyard-brewing-co/brussels-3.jpeg?auto=compress%2Cformat&ixlib=php-3.3.1&s=97a1e68d34fc897f7257d7ca8dc8b52d
END:VEVENT
BEGIN:VEVENT
DTSTART;TZID=America/New_York:20261105T153000
DTEND;TZID=America/New_York:20261105T183000
DTSTAMP:20260419T110636
CREATED:20251028T203409Z
LAST-MODIFIED:20260406T173731Z
UID:10000943-1793892600-1793903400@talyardbrewing.com
SUMMARY:Happy Hour
DESCRIPTION:Happy Hour | 3:30–6:30 PM\n$2 off pints & apps\, and $5 off flights!
URL:https://talyardbrewing.com/event-detail/happy-hour/2026-11-05/
LOCATION:Taproom
ATTACH;FMTTYPE=image/jpeg:https://craftpeak-cooler-images.imgix.net/talyard-brewing-co/brussels-3.jpeg?auto=compress%2Cformat&ixlib=php-3.3.1&s=97a1e68d34fc897f7257d7ca8dc8b52d
END:VEVENT
BEGIN:VEVENT
DTSTART;TZID=America/New_York:20261105T180000
DTEND;TZID=America/New_York:20261105T200000
DTSTAMP:20260419T110636
CREATED:20251118T190034Z
LAST-MODIFIED:20260102T190636Z
UID:10001630-1793901600-1793908800@talyardbrewing.com
SUMMARY:Trivia
DESCRIPTION:Thursday Trivia Nights 🧠🍻 \nTest your knowledge and compete for bragging rights.\nEvery Thursday | 6–8PM | Downstairs Taproom \nBring your crew\, grab a pint\, and let’s see what you’ve got.
URL:https://talyardbrewing.com/event-detail/trivia/2026-11-05/
ATTACH;FMTTYPE=image/png:https://craftpeak-cooler-images.imgix.net/talyard-brewing-co/TRIVIA.png?auto=compress%2Cformat&ixlib=php-3.3.1&s=9cd29d7ac8a55f266ae73b8a5eac2330
END:VEVENT
BEGIN:VEVENT
DTSTART;TZID=America/New_York:20261109T153000
DTEND;TZID=America/New_York:20261109T183000
DTSTAMP:20260419T110636
CREATED:20251028T203409Z
LAST-MODIFIED:20260406T173731Z
UID:10000944-1794238200-1794249000@talyardbrewing.com
SUMMARY:Happy Hour
DESCRIPTION:Happy Hour | 3:30–6:30 PM\n$2 off pints & apps\, and $5 off flights!
URL:https://talyardbrewing.com/event-detail/happy-hour/2026-11-09/
LOCATION:Taproom
ATTACH;FMTTYPE=image/jpeg:https://craftpeak-cooler-images.imgix.net/talyard-brewing-co/brussels-3.jpeg?auto=compress%2Cformat&ixlib=php-3.3.1&s=97a1e68d34fc897f7257d7ca8dc8b52d
END:VEVENT
BEGIN:VEVENT
DTSTART;TZID=America/New_York:20261110T153000
DTEND;TZID=America/New_York:20261110T183000
DTSTAMP:20260419T110636
CREATED:20251028T203409Z
LAST-MODIFIED:20260406T173731Z
UID:10001961-1794324600-1794335400@talyardbrewing.com
SUMMARY:Happy Hour
DESCRIPTION:Happy Hour | 3:30–6:30 PM\n$2 off pints & apps\, and $5 off flights!
URL:https://talyardbrewing.com/event-detail/happy-hour/2026-11-10/
LOCATION:Taproom
ATTACH;FMTTYPE=image/jpeg:https://craftpeak-cooler-images.imgix.net/talyard-brewing-co/brussels-3.jpeg?auto=compress%2Cformat&ixlib=php-3.3.1&s=97a1e68d34fc897f7257d7ca8dc8b52d
END:VEVENT
BEGIN:VEVENT
DTSTART;TZID=America/New_York:20261111T153000
DTEND;TZID=America/New_York:20261111T183000
DTSTAMP:20260419T110636
CREATED:20251028T203409Z
LAST-MODIFIED:20260406T173731Z
UID:10000945-1794411000-1794421800@talyardbrewing.com
SUMMARY:Happy Hour
DESCRIPTION:Happy Hour | 3:30–6:30 PM\n$2 off pints & apps\, and $5 off flights!
URL:https://talyardbrewing.com/event-detail/happy-hour/2026-11-11/
LOCATION:Taproom
ATTACH;FMTTYPE=image/jpeg:https://craftpeak-cooler-images.imgix.net/talyard-brewing-co/brussels-3.jpeg?auto=compress%2Cformat&ixlib=php-3.3.1&s=97a1e68d34fc897f7257d7ca8dc8b52d
END:VEVENT
BEGIN:VEVENT
DTSTART;TZID=America/New_York:20261112T153000
DTEND;TZID=America/New_York:20261112T183000
DTSTAMP:20260419T110636
CREATED:20251028T203409Z
LAST-MODIFIED:20260406T173731Z
UID:10000946-1794497400-1794508200@talyardbrewing.com
SUMMARY:Happy Hour
DESCRIPTION:Happy Hour | 3:30–6:30 PM\n$2 off pints & apps\, and $5 off flights!
URL:https://talyardbrewing.com/event-detail/happy-hour/2026-11-12/
LOCATION:Taproom
ATTACH;FMTTYPE=image/jpeg:https://craftpeak-cooler-images.imgix.net/talyard-brewing-co/brussels-3.jpeg?auto=compress%2Cformat&ixlib=php-3.3.1&s=97a1e68d34fc897f7257d7ca8dc8b52d
END:VEVENT
BEGIN:VEVENT
DTSTART;TZID=America/New_York:20261112T180000
DTEND;TZID=America/New_York:20261112T200000
DTSTAMP:20260419T110636
CREATED:20251118T190034Z
LAST-MODIFIED:20260102T190636Z
UID:10001631-1794506400-1794513600@talyardbrewing.com
SUMMARY:Trivia
DESCRIPTION:Thursday Trivia Nights 🧠🍻 \nTest your knowledge and compete for bragging rights.\nEvery Thursday | 6–8PM | Downstairs Taproom \nBring your crew\, grab a pint\, and let’s see what you’ve got.
URL:https://talyardbrewing.com/event-detail/trivia/2026-11-12/
ATTACH;FMTTYPE=image/png:https://craftpeak-cooler-images.imgix.net/talyard-brewing-co/TRIVIA.png?auto=compress%2Cformat&ixlib=php-3.3.1&s=9cd29d7ac8a55f266ae73b8a5eac2330
END:VEVENT
BEGIN:VEVENT
DTSTART;TZID=America/New_York:20261116T153000
DTEND;TZID=America/New_York:20261116T183000
DTSTAMP:20260419T110636
CREATED:20251028T203409Z
LAST-MODIFIED:20260406T173731Z
UID:10000947-1794843000-1794853800@talyardbrewing.com
SUMMARY:Happy Hour
DESCRIPTION:Happy Hour | 3:30–6:30 PM\n$2 off pints & apps\, and $5 off flights!
URL:https://talyardbrewing.com/event-detail/happy-hour/2026-11-16/
LOCATION:Taproom
ATTACH;FMTTYPE=image/jpeg:https://craftpeak-cooler-images.imgix.net/talyard-brewing-co/brussels-3.jpeg?auto=compress%2Cformat&ixlib=php-3.3.1&s=97a1e68d34fc897f7257d7ca8dc8b52d
END:VEVENT
BEGIN:VEVENT
DTSTART;TZID=America/New_York:20261117T153000
DTEND;TZID=America/New_York:20261117T183000
DTSTAMP:20260419T110636
CREATED:20251028T203409Z
LAST-MODIFIED:20260406T173731Z
UID:10001962-1794929400-1794940200@talyardbrewing.com
SUMMARY:Happy Hour
DESCRIPTION:Happy Hour | 3:30–6:30 PM\n$2 off pints & apps\, and $5 off flights!
URL:https://talyardbrewing.com/event-detail/happy-hour/2026-11-17/
LOCATION:Taproom
ATTACH;FMTTYPE=image/jpeg:https://craftpeak-cooler-images.imgix.net/talyard-brewing-co/brussels-3.jpeg?auto=compress%2Cformat&ixlib=php-3.3.1&s=97a1e68d34fc897f7257d7ca8dc8b52d
END:VEVENT
BEGIN:VEVENT
DTSTART;TZID=America/New_York:20261118T153000
DTEND;TZID=America/New_York:20261118T183000
DTSTAMP:20260419T110636
CREATED:20251028T203409Z
LAST-MODIFIED:20260406T173731Z
UID:10000948-1795015800-1795026600@talyardbrewing.com
SUMMARY:Happy Hour
DESCRIPTION:Happy Hour | 3:30–6:30 PM\n$2 off pints & apps\, and $5 off flights!
URL:https://talyardbrewing.com/event-detail/happy-hour/2026-11-18/
LOCATION:Taproom
ATTACH;FMTTYPE=image/jpeg:https://craftpeak-cooler-images.imgix.net/talyard-brewing-co/brussels-3.jpeg?auto=compress%2Cformat&ixlib=php-3.3.1&s=97a1e68d34fc897f7257d7ca8dc8b52d
END:VEVENT
BEGIN:VEVENT
DTSTART;TZID=America/New_York:20261119T153000
DTEND;TZID=America/New_York:20261119T183000
DTSTAMP:20260419T110636
CREATED:20251028T203409Z
LAST-MODIFIED:20260406T173731Z
UID:10000949-1795102200-1795113000@talyardbrewing.com
SUMMARY:Happy Hour
DESCRIPTION:Happy Hour | 3:30–6:30 PM\n$2 off pints & apps\, and $5 off flights!
URL:https://talyardbrewing.com/event-detail/happy-hour/2026-11-19/
LOCATION:Taproom
ATTACH;FMTTYPE=image/jpeg:https://craftpeak-cooler-images.imgix.net/talyard-brewing-co/brussels-3.jpeg?auto=compress%2Cformat&ixlib=php-3.3.1&s=97a1e68d34fc897f7257d7ca8dc8b52d
END:VEVENT
BEGIN:VEVENT
DTSTART;TZID=America/New_York:20261119T180000
DTEND;TZID=America/New_York:20261119T200000
DTSTAMP:20260419T110636
CREATED:20251118T190034Z
LAST-MODIFIED:20260102T190636Z
UID:10001632-1795111200-1795118400@talyardbrewing.com
SUMMARY:Trivia
DESCRIPTION:Thursday Trivia Nights 🧠🍻 \nTest your knowledge and compete for bragging rights.\nEvery Thursday | 6–8PM | Downstairs Taproom \nBring your crew\, grab a pint\, and let’s see what you’ve got.
URL:https://talyardbrewing.com/event-detail/trivia/2026-11-19/
ATTACH;FMTTYPE=image/png:https://craftpeak-cooler-images.imgix.net/talyard-brewing-co/TRIVIA.png?auto=compress%2Cformat&ixlib=php-3.3.1&s=9cd29d7ac8a55f266ae73b8a5eac2330
END:VEVENT
BEGIN:VEVENT
DTSTART;TZID=America/New_York:20261123T153000
DTEND;TZID=America/New_York:20261123T183000
DTSTAMP:20260419T110636
CREATED:20251028T203409Z
LAST-MODIFIED:20260406T173731Z
UID:10000950-1795447800-1795458600@talyardbrewing.com
SUMMARY:Happy Hour
DESCRIPTION:Happy Hour | 3:30–6:30 PM\n$2 off pints & apps\, and $5 off flights!
URL:https://talyardbrewing.com/event-detail/happy-hour/2026-11-23/
LOCATION:Taproom
ATTACH;FMTTYPE=image/jpeg:https://craftpeak-cooler-images.imgix.net/talyard-brewing-co/brussels-3.jpeg?auto=compress%2Cformat&ixlib=php-3.3.1&s=97a1e68d34fc897f7257d7ca8dc8b52d
END:VEVENT
BEGIN:VEVENT
DTSTART;TZID=America/New_York:20261124T153000
DTEND;TZID=America/New_York:20261124T183000
DTSTAMP:20260419T110636
CREATED:20251028T203409Z
LAST-MODIFIED:20260406T173731Z
UID:10001963-1795534200-1795545000@talyardbrewing.com
SUMMARY:Happy Hour
DESCRIPTION:Happy Hour | 3:30–6:30 PM\n$2 off pints & apps\, and $5 off flights!
URL:https://talyardbrewing.com/event-detail/happy-hour/2026-11-24/
LOCATION:Taproom
ATTACH;FMTTYPE=image/jpeg:https://craftpeak-cooler-images.imgix.net/talyard-brewing-co/brussels-3.jpeg?auto=compress%2Cformat&ixlib=php-3.3.1&s=97a1e68d34fc897f7257d7ca8dc8b52d
END:VEVENT
BEGIN:VEVENT
DTSTART;TZID=America/New_York:20261125T153000
DTEND;TZID=America/New_York:20261125T183000
DTSTAMP:20260419T110636
CREATED:20251028T203409Z
LAST-MODIFIED:20260406T173731Z
UID:10000951-1795620600-1795631400@talyardbrewing.com
SUMMARY:Happy Hour
DESCRIPTION:Happy Hour | 3:30–6:30 PM\n$2 off pints & apps\, and $5 off flights!
URL:https://talyardbrewing.com/event-detail/happy-hour/2026-11-25/
LOCATION:Taproom
ATTACH;FMTTYPE=image/jpeg:https://craftpeak-cooler-images.imgix.net/talyard-brewing-co/brussels-3.jpeg?auto=compress%2Cformat&ixlib=php-3.3.1&s=97a1e68d34fc897f7257d7ca8dc8b52d
END:VEVENT
BEGIN:VEVENT
DTSTART;TZID=America/New_York:20261126T153000
DTEND;TZID=America/New_York:20261126T183000
DTSTAMP:20260419T110636
CREATED:20251028T203409Z
LAST-MODIFIED:20260406T173731Z
UID:10000952-1795707000-1795717800@talyardbrewing.com
SUMMARY:Happy Hour
DESCRIPTION:Happy Hour | 3:30–6:30 PM\n$2 off pints & apps\, and $5 off flights!
URL:https://talyardbrewing.com/event-detail/happy-hour/2026-11-26/
LOCATION:Taproom
ATTACH;FMTTYPE=image/jpeg:https://craftpeak-cooler-images.imgix.net/talyard-brewing-co/brussels-3.jpeg?auto=compress%2Cformat&ixlib=php-3.3.1&s=97a1e68d34fc897f7257d7ca8dc8b52d
END:VEVENT
BEGIN:VEVENT
DTSTART;TZID=America/New_York:20261126T180000
DTEND;TZID=America/New_York:20261126T200000
DTSTAMP:20260419T110636
CREATED:20251118T190034Z
LAST-MODIFIED:20260102T190636Z
UID:10001633-1795716000-1795723200@talyardbrewing.com
SUMMARY:Trivia
DESCRIPTION:Thursday Trivia Nights 🧠🍻 \nTest your knowledge and compete for bragging rights.\nEvery Thursday | 6–8PM | Downstairs Taproom \nBring your crew\, grab a pint\, and let’s see what you’ve got.
URL:https://talyardbrewing.com/event-detail/trivia/2026-11-26/
ATTACH;FMTTYPE=image/png:https://craftpeak-cooler-images.imgix.net/talyard-brewing-co/TRIVIA.png?auto=compress%2Cformat&ixlib=php-3.3.1&s=9cd29d7ac8a55f266ae73b8a5eac2330
END:VEVENT
BEGIN:VEVENT
DTSTART;TZID=America/New_York:20261130T153000
DTEND;TZID=America/New_York:20261130T183000
DTSTAMP:20260419T110636
CREATED:20251028T203409Z
LAST-MODIFIED:20260406T173731Z
UID:10000953-1796052600-1796063400@talyardbrewing.com
SUMMARY:Happy Hour
DESCRIPTION:Happy Hour | 3:30–6:30 PM\n$2 off pints & apps\, and $5 off flights!
URL:https://talyardbrewing.com/event-detail/happy-hour/2026-11-30/
LOCATION:Taproom
ATTACH;FMTTYPE=image/jpeg:https://craftpeak-cooler-images.imgix.net/talyard-brewing-co/brussels-3.jpeg?auto=compress%2Cformat&ixlib=php-3.3.1&s=97a1e68d34fc897f7257d7ca8dc8b52d
END:VEVENT
END:VCALENDAR